BEGIN:VCALENDAR
VERSION:2.0
PRODID:-//KUKN 105.5 Cookin&#039; Country - ECPv6.15.20//NONSGML v1.0//EN
CALSCALE:GREGORIAN
METHOD:PUBLISH
X-WR-CALNAME:KUKN 105.5 Cookin&#039; Country
X-ORIGINAL-URL:https://www.kuknradio.com
X-WR-CALDESC:Events for KUKN 105.5 Cookin&#039; Country
REFRESH-INTERVAL;VALUE=DURATION:PT1H
X-Robots-Tag:noindex
X-PUBLISHED-TTL:PT1H
BEGIN:VTIMEZONE
TZID:America/Los_Angeles
BEGIN:DAYLIGHT
TZOFFSETFROM:-0800
TZOFFSETTO:-0700
TZNAME:PDT
DTSTART:20240310T100000
END:DAYLIGHT
BEGIN:STANDARD
TZOFFSETFROM:-0700
TZOFFSETTO:-0800
TZNAME:PST
DTSTART:20241103T090000
END:STANDARD
BEGIN:DAYLIGHT
TZOFFSETFROM:-0800
TZOFFSETTO:-0700
TZNAME:PDT
DTSTART:20250309T100000
END:DAYLIGHT
BEGIN:STANDARD
TZOFFSETFROM:-0700
TZOFFSETTO:-0800
TZNAME:PST
DTSTART:20251102T090000
END:STANDARD
BEGIN:DAYLIGHT
TZOFFSETFROM:-0800
TZOFFSETTO:-0700
TZNAME:PDT
DTSTART:20260308T100000
END:DAYLIGHT
BEGIN:STANDARD
TZOFFSETFROM:-0700
TZOFFSETTO:-0800
TZNAME:PST
DTSTART:20261101T090000
END:STANDARD
END:VTIMEZONE
BEGIN:VEVENT
DTSTART;TZID=America/Los_Angeles:20250927T160000
DTEND;TZID=America/Los_Angeles:20250927T210000
DTSTAMP:20260425T140023
CREATED:20250925T180703Z
LAST-MODIFIED:20250925T180703Z
UID:10002079-1758988800-1759006800@www.kuknradio.com
SUMMARY:Fresh Hop Festival
DESCRIPTION:Wine & Beer Haus presents the Fresh Hop Festival: September 27th\, 4-9pm at the Wine & Beer Haus in Seaside. \nEnjoy beers from 6 different breweries including Von Ebert\, Fort George and Georgetown\, door prizes\, Seaside Brewery’s BBQ 4-7pm\, and live music by The Something Ain’t Rights 7-9pm.
URL:https://www.kuknradio.com/event/fresh-hop-festival/
LOCATION:Wine and Beer Haus\, 1111 N Roosevelt Dr\, Seaside\, OR\, United States
CATEGORIES:Community Events
GEO:46.000299;-123.917536
X-APPLE-STRUCTURED-LOCATION;VALUE=URI;X-ADDRESS=Wine and Beer Haus 1111 N Roosevelt Dr Seaside OR United States;X-APPLE-RADIUS=500;X-TITLE=1111 N Roosevelt Dr:geo:-123.917536,46.000299
END:VEVENT
END:VCALENDAR