BEGIN:VCALENDAR
VERSION:2.0
PRODID:-//KUKN 105.5 Cookin&#039; Country - ECPv6.15.20//NONSGML v1.0//EN
CALSCALE:GREGORIAN
METHOD:PUBLISH
X-WR-CALNAME:KUKN 105.5 Cookin&#039; Country
X-ORIGINAL-URL:https://www.kuknradio.com
X-WR-CALDESC:Events for KUKN 105.5 Cookin&#039; Country
REFRESH-INTERVAL;VALUE=DURATION:PT1H
X-Robots-Tag:noindex
X-PUBLISHED-TTL:PT1H
BEGIN:VTIMEZONE
TZID:America/Los_Angeles
BEGIN:DAYLIGHT
TZOFFSETFROM:-0800
TZOFFSETTO:-0700
TZNAME:PDT
DTSTART:20240310T100000
END:DAYLIGHT
BEGIN:STANDARD
TZOFFSETFROM:-0700
TZOFFSETTO:-0800
TZNAME:PST
DTSTART:20241103T090000
END:STANDARD
BEGIN:DAYLIGHT
TZOFFSETFROM:-0800
TZOFFSETTO:-0700
TZNAME:PDT
DTSTART:20250309T100000
END:DAYLIGHT
BEGIN:STANDARD
TZOFFSETFROM:-0700
TZOFFSETTO:-0800
TZNAME:PST
DTSTART:20251102T090000
END:STANDARD
BEGIN:DAYLIGHT
TZOFFSETFROM:-0800
TZOFFSETTO:-0700
TZNAME:PDT
DTSTART:20260308T100000
END:DAYLIGHT
BEGIN:STANDARD
TZOFFSETFROM:-0700
TZOFFSETTO:-0800
TZNAME:PST
DTSTART:20261101T090000
END:STANDARD
END:VTIMEZONE
BEGIN:VEVENT
DTSTART;TZID=America/Los_Angeles:20250316T100000
DTEND;TZID=America/Los_Angeles:20250316T200000
DTSTAMP:20260425T162904
CREATED:20250120T230129Z
LAST-MODIFIED:20250120T230129Z
UID:10001444-1742119200-1742155200@www.kuknradio.com
SUMMARY:Sou'Wester FREE Arts Week
DESCRIPTION:It’s Arts Week with Sou-Wester! And March 14th through the 16th\, over thirty performances\, art installations and studio tours are all free and open to the public! The 2025 theme is Embers: Darkness to Fire. Locations move from friday through sunday from Ilwaco Artworks\, to The Sou’Wester\, to Wave Preschool.For more information: souwesterlodge.com/arts-week-2025/
URL:https://www.kuknradio.com/event/souwester-free-arts-week-3/
LOCATION:Wave of the Future Preschool\, 1117 39th Pl\, Seaview\, WA\, United States
CATEGORIES:Community Events
GEO:46.330981;-124.056881
X-APPLE-STRUCTURED-LOCATION;VALUE=URI;X-ADDRESS=Wave of the Future Preschool 1117 39th Pl Seaview WA United States;X-APPLE-RADIUS=500;X-TITLE=1117 39th Pl:geo:-124.056881,46.330981
END:VEVENT
END:VCALENDAR