BEGIN:VCALENDAR
VERSION:2.0
PRODID:-//KUKN 105.5 Cookin&#039; Country - ECPv6.15.20//NONSGML v1.0//EN
CALSCALE:GREGORIAN
METHOD:PUBLISH
X-WR-CALNAME:KUKN 105.5 Cookin&#039; Country
X-ORIGINAL-URL:https://www.kuknradio.com
X-WR-CALDESC:Events for KUKN 105.5 Cookin&#039; Country
REFRESH-INTERVAL;VALUE=DURATION:PT1H
X-Robots-Tag:noindex
X-PUBLISHED-TTL:PT1H
BEGIN:VTIMEZONE
TZID:America/Los_Angeles
BEGIN:DAYLIGHT
TZOFFSETFROM:-0800
TZOFFSETTO:-0700
TZNAME:PDT
DTSTART:20250309T100000
END:DAYLIGHT
BEGIN:STANDARD
TZOFFSETFROM:-0700
TZOFFSETTO:-0800
TZNAME:PST
DTSTART:20251102T090000
END:STANDARD
BEGIN:DAYLIGHT
TZOFFSETFROM:-0800
TZOFFSETTO:-0700
TZNAME:PDT
DTSTART:20260308T100000
END:DAYLIGHT
BEGIN:STANDARD
TZOFFSETFROM:-0700
TZOFFSETTO:-0800
TZNAME:PST
DTSTART:20261101T090000
END:STANDARD
BEGIN:DAYLIGHT
TZOFFSETFROM:-0800
TZOFFSETTO:-0700
TZNAME:PDT
DTSTART:20270314T100000
END:DAYLIGHT
BEGIN:STANDARD
TZOFFSETFROM:-0700
TZOFFSETTO:-0800
TZNAME:PST
DTSTART:20271107T090000
END:STANDARD
END:VTIMEZONE
BEGIN:VEVENT
DTSTART;TZID=America/Los_Angeles:20261104T103000
DTEND;TZID=America/Los_Angeles:20261104T120000
DTSTAMP:20260424T200227
CREATED:20241218T070123Z
LAST-MODIFIED:20241218T070123Z
UID:10001336-1793788200-1793793600@www.kuknradio.com
SUMMARY:Storytime & Open Play Group
DESCRIPTION:Babies to preschoolers and their parents/ guardians\, come to the Warrenton Community Library every Wednesday and Saturday from 10:30am-noon for storytime and open play!\nJenny shares stories\, and leads songs and movement at 10:30\, then it’s an hour of open play in the children’s area.\nPlease let the library know if you need any sensory accommodations\, as the library can get noisy during this time.
URL:https://www.kuknradio.com/event/storytime-open-play-group-113/
LOCATION:Warrenton Community Library\, 160 S Main Ave\, Warrenton\, OR\, United States
GEO:46.164165;-123.924731
X-APPLE-STRUCTURED-LOCATION;VALUE=URI;X-ADDRESS=Warrenton Community Library 160 S Main Ave Warrenton OR United States;X-APPLE-RADIUS=500;X-TITLE=160 S Main Ave:geo:-123.924731,46.164165
END:VEVENT
BEGIN:VEVENT
DTSTART;TZID=America/Los_Angeles:20261111T103000
DTEND;TZID=America/Los_Angeles:20261111T120000
DTSTAMP:20260424T200227
CREATED:20241218T070124Z
LAST-MODIFIED:20241218T070124Z
UID:10001345-1794393000-1794398400@www.kuknradio.com
SUMMARY:Storytime & Open Play Group
DESCRIPTION:Babies to preschoolers and their parents/ guardians\, come to the Warrenton Community Library every Wednesday and Saturday from 10:30am-noon for storytime and open play!\nJenny shares stories\, and leads songs and movement at 10:30\, then it’s an hour of open play in the children’s area.\nPlease let the library know if you need any sensory accommodations\, as the library can get noisy during this time.
URL:https://www.kuknradio.com/event/storytime-open-play-group-114/
LOCATION:Warrenton Community Library\, 160 S Main Ave\, Warrenton\, OR\, United States
GEO:46.164165;-123.924731
X-APPLE-STRUCTURED-LOCATION;VALUE=URI;X-ADDRESS=Warrenton Community Library 160 S Main Ave Warrenton OR United States;X-APPLE-RADIUS=500;X-TITLE=160 S Main Ave:geo:-123.924731,46.164165
END:VEVENT
BEGIN:VEVENT
DTSTART;TZID=America/Los_Angeles:20261118T103000
DTEND;TZID=America/Los_Angeles:20261118T120000
DTSTAMP:20260424T200227
CREATED:20241218T070126Z
LAST-MODIFIED:20241218T070126Z
UID:10001355-1794997800-1795003200@www.kuknradio.com
SUMMARY:Storytime & Open Play Group
DESCRIPTION:Babies to preschoolers and their parents/ guardians\, come to the Warrenton Community Library every Wednesday and Saturday from 10:30am-noon for storytime and open play!\nJenny shares stories\, and leads songs and movement at 10:30\, then it’s an hour of open play in the children’s area.\nPlease let the library know if you need any sensory accommodations\, as the library can get noisy during this time.
URL:https://www.kuknradio.com/event/storytime-open-play-group-115/
LOCATION:Warrenton Community Library\, 160 S Main Ave\, Warrenton\, OR\, United States
GEO:46.164165;-123.924731
X-APPLE-STRUCTURED-LOCATION;VALUE=URI;X-ADDRESS=Warrenton Community Library 160 S Main Ave Warrenton OR United States;X-APPLE-RADIUS=500;X-TITLE=160 S Main Ave:geo:-123.924731,46.164165
END:VEVENT
BEGIN:VEVENT
DTSTART;TZID=America/Los_Angeles:20261125T103000
DTEND;TZID=America/Los_Angeles:20261125T120000
DTSTAMP:20260424T200227
CREATED:20241218T070129Z
LAST-MODIFIED:20241218T070129Z
UID:10001363-1795602600-1795608000@www.kuknradio.com
SUMMARY:Storytime & Open Play Group
DESCRIPTION:Babies to preschoolers and their parents/ guardians\, come to the Warrenton Community Library every Wednesday and Saturday from 10:30am-noon for storytime and open play!\nJenny shares stories\, and leads songs and movement at 10:30\, then it’s an hour of open play in the children’s area.\nPlease let the library know if you need any sensory accommodations\, as the library can get noisy during this time.
URL:https://www.kuknradio.com/event/storytime-open-play-group-116/
LOCATION:Warrenton Community Library\, 160 S Main Ave\, Warrenton\, OR\, United States
GEO:46.164165;-123.924731
X-APPLE-STRUCTURED-LOCATION;VALUE=URI;X-ADDRESS=Warrenton Community Library 160 S Main Ave Warrenton OR United States;X-APPLE-RADIUS=500;X-TITLE=160 S Main Ave:geo:-123.924731,46.164165
END:VEVENT
BEGIN:VEVENT
DTSTART;TZID=America/Los_Angeles:20261125T153000
DTEND;TZID=America/Los_Angeles:20261125T163000
DTSTAMP:20260424T200227
CREATED:20241218T070129Z
LAST-MODIFIED:20241218T070129Z
UID:10001364-1795620600-1795624200@www.kuknradio.com
SUMMARY:Science Club
DESCRIPTION:Get hands on with science\, technology\, engineering and math activities at Science Club! The last Wednesday of every month at the Warrenton library\, this is geared toward 2nd grade to 6th grade youth.
URL:https://www.kuknradio.com/event/science-club-26/
LOCATION:Warrenton Community Library\, 160 S Main Ave\, Warrenton\, OR\, United States
GEO:46.164165;-123.924731
X-APPLE-STRUCTURED-LOCATION;VALUE=URI;X-ADDRESS=Warrenton Community Library 160 S Main Ave Warrenton OR United States;X-APPLE-RADIUS=500;X-TITLE=160 S Main Ave:geo:-123.924731,46.164165
END:VEVENT
BEGIN:VEVENT
DTSTART;TZID=America/Los_Angeles:20261202T103000
DTEND;TZID=America/Los_Angeles:20261202T120000
DTSTAMP:20260424T200227
CREATED:20241218T070130Z
LAST-MODIFIED:20241218T070130Z
UID:10001373-1796207400-1796212800@www.kuknradio.com
SUMMARY:Storytime & Open Play Group
DESCRIPTION:Babies to preschoolers and their parents/ guardians\, come to the Warrenton Community Library every Wednesday and Saturday from 10:30am-noon for storytime and open play!\nJenny shares stories\, and leads songs and movement at 10:30\, then it’s an hour of open play in the children’s area.\nPlease let the library know if you need any sensory accommodations\, as the library can get noisy during this time.
URL:https://www.kuknradio.com/event/storytime-open-play-group-117/
LOCATION:Warrenton Community Library\, 160 S Main Ave\, Warrenton\, OR\, United States
GEO:46.164165;-123.924731
X-APPLE-STRUCTURED-LOCATION;VALUE=URI;X-ADDRESS=Warrenton Community Library 160 S Main Ave Warrenton OR United States;X-APPLE-RADIUS=500;X-TITLE=160 S Main Ave:geo:-123.924731,46.164165
END:VEVENT
BEGIN:VEVENT
DTSTART;TZID=America/Los_Angeles:20261209T103000
DTEND;TZID=America/Los_Angeles:20261209T120000
DTSTAMP:20260424T200227
CREATED:20241218T070133Z
LAST-MODIFIED:20241218T070133Z
UID:10001382-1796812200-1796817600@www.kuknradio.com
SUMMARY:Storytime & Open Play Group
DESCRIPTION:Babies to preschoolers and their parents/ guardians\, come to the Warrenton Community Library every Wednesday and Saturday from 10:30am-noon for storytime and open play!\nJenny shares stories\, and leads songs and movement at 10:30\, then it’s an hour of open play in the children’s area.\nPlease let the library know if you need any sensory accommodations\, as the library can get noisy during this time.
URL:https://www.kuknradio.com/event/storytime-open-play-group-118/
LOCATION:Warrenton Community Library\, 160 S Main Ave\, Warrenton\, OR\, United States
GEO:46.164165;-123.924731
X-APPLE-STRUCTURED-LOCATION;VALUE=URI;X-ADDRESS=Warrenton Community Library 160 S Main Ave Warrenton OR United States;X-APPLE-RADIUS=500;X-TITLE=160 S Main Ave:geo:-123.924731,46.164165
END:VEVENT
BEGIN:VEVENT
DTSTART;TZID=America/Los_Angeles:20261216T103000
DTEND;TZID=America/Los_Angeles:20261216T120000
DTSTAMP:20260424T200227
CREATED:20241218T070841Z
LAST-MODIFIED:20241218T070841Z
UID:10001393-1797417000-1797422400@www.kuknradio.com
SUMMARY:Storytime & Open Play Group
DESCRIPTION:Babies to preschoolers and their parents/ guardians\, come to the Warrenton Community Library every Wednesday and Saturday from 10:30am-noon for storytime and open play!\nJenny shares stories\, and leads songs and movement at 10:30\, then it’s an hour of open play in the children’s area.\nPlease let the library know if you need any sensory accommodations\, as the library can get noisy during this time.
URL:https://www.kuknradio.com/event/storytime-open-play-group-119/
LOCATION:Warrenton Community Library\, 160 S Main Ave\, Warrenton\, OR\, United States
GEO:46.164165;-123.924731
X-APPLE-STRUCTURED-LOCATION;VALUE=URI;X-ADDRESS=Warrenton Community Library 160 S Main Ave Warrenton OR United States;X-APPLE-RADIUS=500;X-TITLE=160 S Main Ave:geo:-123.924731,46.164165
END:VEVENT
END:VCALENDAR