BEGIN:VCALENDAR
VERSION:2.0
PRODID:-//KUKN 105.5 Cookin&#039; Country - ECPv6.15.20//NONSGML v1.0//EN
CALSCALE:GREGORIAN
METHOD:PUBLISH
X-WR-CALNAME:KUKN 105.5 Cookin&#039; Country
X-ORIGINAL-URL:https://www.kuknradio.com
X-WR-CALDESC:Events for KUKN 105.5 Cookin&#039; Country
REFRESH-INTERVAL;VALUE=DURATION:PT1H
X-Robots-Tag:noindex
X-PUBLISHED-TTL:PT1H
BEGIN:VTIMEZONE
TZID:America/Los_Angeles
BEGIN:DAYLIGHT
TZOFFSETFROM:-0800
TZOFFSETTO:-0700
TZNAME:PDT
DTSTART:20240310T100000
END:DAYLIGHT
BEGIN:STANDARD
TZOFFSETFROM:-0700
TZOFFSETTO:-0800
TZNAME:PST
DTSTART:20241103T090000
END:STANDARD
BEGIN:DAYLIGHT
TZOFFSETFROM:-0800
TZOFFSETTO:-0700
TZNAME:PDT
DTSTART:20250309T100000
END:DAYLIGHT
BEGIN:STANDARD
TZOFFSETFROM:-0700
TZOFFSETTO:-0800
TZNAME:PST
DTSTART:20251102T090000
END:STANDARD
BEGIN:DAYLIGHT
TZOFFSETFROM:-0800
TZOFFSETTO:-0700
TZNAME:PDT
DTSTART:20260308T100000
END:DAYLIGHT
BEGIN:STANDARD
TZOFFSETFROM:-0700
TZOFFSETTO:-0800
TZNAME:PST
DTSTART:20261101T090000
END:STANDARD
END:VTIMEZONE
BEGIN:VEVENT
DTSTART;TZID=America/Los_Angeles:20251018T210000
DTEND;TZID=America/Los_Angeles:20251018T230000
DTSTAMP:20260424T103713
CREATED:20250916T220712Z
LAST-MODIFIED:20250916T220712Z
UID:10002024-1760821200-1760828400@www.kuknradio.com
SUMMARY:Ghastly Gala Dance Party
DESCRIPTION:The Ghastly Gala Dance Party is the spookiest 21+ party on October 18th from 9pm-11pm at Stranded (1412 Commercial St Astoria). Costumes encouraged!Just $10 to get in\, or half off with a qualifying purchase at Lucy’s Books\, Dead Man’s Isle\, Stranded\, Purple Cow Toys\, Port Hopper\, Rusty Cup\, Feral Flora\, A Gypsy’s Whimsy\, Elevated Whispers\, or Garbo’s Vintage Wear. \nThere’s also an after party at Xanadu! \nFor more information: astoriadowntown.com/downtown-halloween/
URL:https://www.kuknradio.com/event/ghastly-gala-dance-party/
LOCATION:Stranded\, 1412 Commercial St\, Astoria\, OR\, United States
CATEGORIES:Community Events
GEO:46.189065;-123.828531
X-APPLE-STRUCTURED-LOCATION;VALUE=URI;X-ADDRESS=Stranded 1412 Commercial St Astoria OR United States;X-APPLE-RADIUS=500;X-TITLE=1412 Commercial St:geo:-123.828531,46.189065
END:VEVENT
END:VCALENDAR