BEGIN:VCALENDAR
VERSION:2.0
PRODID:-//KUKN 105.5 Cookin&#039; Country - ECPv6.15.20//NONSGML v1.0//EN
CALSCALE:GREGORIAN
METHOD:PUBLISH
X-WR-CALNAME:KUKN 105.5 Cookin&#039; Country
X-ORIGINAL-URL:https://www.kuknradio.com
X-WR-CALDESC:Events for KUKN 105.5 Cookin&#039; Country
REFRESH-INTERVAL;VALUE=DURATION:PT1H
X-Robots-Tag:noindex
X-PUBLISHED-TTL:PT1H
BEGIN:VTIMEZONE
TZID:America/Los_Angeles
BEGIN:DAYLIGHT
TZOFFSETFROM:-0800
TZOFFSETTO:-0700
TZNAME:PDT
DTSTART:20230312T100000
END:DAYLIGHT
BEGIN:STANDARD
TZOFFSETFROM:-0700
TZOFFSETTO:-0800
TZNAME:PST
DTSTART:20231105T090000
END:STANDARD
BEGIN:DAYLIGHT
TZOFFSETFROM:-0800
TZOFFSETTO:-0700
TZNAME:PDT
DTSTART:20240310T100000
END:DAYLIGHT
BEGIN:STANDARD
TZOFFSETFROM:-0700
TZOFFSETTO:-0800
TZNAME:PST
DTSTART:20241103T090000
END:STANDARD
BEGIN:DAYLIGHT
TZOFFSETFROM:-0800
TZOFFSETTO:-0700
TZNAME:PDT
DTSTART:20250309T100000
END:DAYLIGHT
BEGIN:STANDARD
TZOFFSETFROM:-0700
TZOFFSETTO:-0800
TZNAME:PST
DTSTART:20251102T090000
END:STANDARD
BEGIN:DAYLIGHT
TZOFFSETFROM:-0800
TZOFFSETTO:-0700
TZNAME:PDT
DTSTART:20260308T100000
END:DAYLIGHT
BEGIN:STANDARD
TZOFFSETFROM:-0700
TZOFFSETTO:-0800
TZNAME:PST
DTSTART:20261101T090000
END:STANDARD
END:VTIMEZONE
BEGIN:VEVENT
DTSTART;TZID=America/Los_Angeles:20251129T100000
DTEND;TZID=America/Los_Angeles:20251129T170000
DTSTAMP:20260424T155440
CREATED:20250930T005024Z
LAST-MODIFIED:20250930T005024Z
UID:10002106-1764410400-1764435600@www.kuknradio.com
SUMMARY:Yuletide in Seaside! Holiday Festival and Market
DESCRIPTION:Get your Yuletide on in Seaside! The Holiday Festival and Market at the Seaside Civic and Convention Center is back: 11am-5pm on November 28th\, and 10am-5pm on November 29th. Vendor booths\, a parade\, interactive demos\, games\, great food and more! \nLearn more at seasidechamber.com/event-detail?e=MjmgfAUmz8GzGHV8_K2qLA2&fbclid=IwY2xjawNBTtRleHRuA2FlbQIxMABicmlkETF3NnhlalpoWHE5QklpZlVGAR6tTbb4j0qSt63AGWfkoBU2hVBIA_4ZwQ_zEmMdHdLn6pxvZz4lRaR9kp1Ilw_aem_wQ28aJjYl2J4oKcNzW7vRQ
URL:https://www.kuknradio.com/event/yuletide-in-seaside-holiday-festival-and-market-2/
LOCATION:Seaside Civic & Convention Center\, 415 1st Ave\, Seaside\, OR\, United States
CATEGORIES:Community Events
GEO:45.9944;-123.925806
X-APPLE-STRUCTURED-LOCATION;VALUE=URI;X-ADDRESS=Seaside Civic & Convention Center 415 1st Ave Seaside OR United States;X-APPLE-RADIUS=500;X-TITLE=415 1st Ave:geo:-123.925806,45.9944
END:VEVENT
BEGIN:VEVENT
DTSTART;TZID=America/Los_Angeles:20251128T110000
DTEND;TZID=America/Los_Angeles:20251128T170000
DTSTAMP:20260424T155440
CREATED:20250929T005124Z
LAST-MODIFIED:20250929T005124Z
UID:10002097-1764327600-1764349200@www.kuknradio.com
SUMMARY:Yuletide in Seaside! Holiday Festival and Market
DESCRIPTION:Get your Yuletide on in Seaside! The Holiday Festival and Market at the Seaside Civic and Convention Center is back: 11am-5pm on November 28th\, and 10am-5pm on November 29th. Vendor booths\, a parade\, interactive demos\, games\, great food and more! \nLearn more at seasidechamber.com/event-detail?e=MjmgfAUmz8GzGHV8_K2qLA2&fbclid=IwY2xjawNBTtRleHRuA2FlbQIxMABicmlkETF3NnhlalpoWHE5QklpZlVGAR6tTbb4j0qSt63AGWfkoBU2hVBIA_4ZwQ_zEmMdHdLn6pxvZz4lRaR9kp1Ilw_aem_wQ28aJjYl2J4oKcNzW7vRQ
URL:https://www.kuknradio.com/event/yuletide-in-seaside-holiday-festival-and-market/
LOCATION:Seaside Civic & Convention Center\, 415 1st Ave\, Seaside\, OR\, United States
CATEGORIES:Community Events
GEO:45.9944;-123.925806
X-APPLE-STRUCTURED-LOCATION;VALUE=URI;X-ADDRESS=Seaside Civic & Convention Center 415 1st Ave Seaside OR United States;X-APPLE-RADIUS=500;X-TITLE=415 1st Ave:geo:-123.925806,45.9944
END:VEVENT
BEGIN:VEVENT
DTSTART;TZID=America/Los_Angeles:20251113T100000
DTEND;TZID=America/Los_Angeles:20251113T140000
DTSTAMP:20260424T155440
CREATED:20250929T233556Z
LAST-MODIFIED:20250929T233556Z
UID:10002104-1763028000-1763042400@www.kuknradio.com
SUMMARY:Holiday Treasures Boutique
DESCRIPTION:The Holiday Treasures Boutique will be at the Seaside Convention Center on November 13th from 10am-2pm.\nThere\, you’ll find “All Holiday” specialty items\, home decor\, kitchen items\, homemade baked goods and treats\, stuff for kids\, and more!\nThe Holiday Treasures Boutique is hosted by the local chapter of the Philanthropic Educators Organization\, and the money raised goes to women pursuing college education.
URL:https://www.kuknradio.com/event/holiday-treasures-boutique/
LOCATION:Seaside Civic & Convention Center\, 415 1st Ave\, Seaside\, OR\, United States
CATEGORIES:Community Events
GEO:45.9944;-123.925806
X-APPLE-STRUCTURED-LOCATION;VALUE=URI;X-ADDRESS=Seaside Civic & Convention Center 415 1st Ave Seaside OR United States;X-APPLE-RADIUS=500;X-TITLE=415 1st Ave:geo:-123.925806,45.9944
END:VEVENT
BEGIN:VEVENT
DTSTART;TZID=America/Los_Angeles:20251111T180000
DTEND;TZID=America/Los_Angeles:20251111T210000
DTSTAMP:20260424T155440
CREATED:20250913T003704Z
LAST-MODIFIED:20250913T003704Z
UID:10002016-1762884000-1762894800@www.kuknradio.com
SUMMARY:Iron Chef Goes Coastal
DESCRIPTION:The United Way of Clatsop County’s 16th annual Iron Chef Goes Coastal is Tuesday\, November 11th at the Seaside Civic and Convention Center. Doors at 4:30pm\, event begins at 6pm.This is the biggest fundraiser for our United Way\, bringing together foodies and the greatest local chefs for a night of flavor\, feuding and fun! \nFor tickets and all the details: clatsopunitedway.org/the-16th-annual-iron-chef-goes-coastal/
URL:https://www.kuknradio.com/event/iron-chef-goes-coastal-2/
LOCATION:Seaside Civic & Convention Center\, 415 1st Ave\, Seaside\, OR\, United States
CATEGORIES:Community Events
GEO:45.9944;-123.925806
X-APPLE-STRUCTURED-LOCATION;VALUE=URI;X-ADDRESS=Seaside Civic & Convention Center 415 1st Ave Seaside OR United States;X-APPLE-RADIUS=500;X-TITLE=415 1st Ave:geo:-123.925806,45.9944
END:VEVENT
BEGIN:VEVENT
DTSTART;TZID=America/Los_Angeles:20251026T170000
DTEND;TZID=America/Los_Angeles:20251026T193000
DTSTAMP:20260424T155440
CREATED:20250926T201950Z
LAST-MODIFIED:20250926T201950Z
UID:10002093-1761498000-1761507000@www.kuknradio.com
SUMMARY:Seabird Soirée
DESCRIPTION:The 9th annual gala and auction for the Wildlife Center of the North Coast\, “Seabird Soirée\,” is October 26th\, 5-7:30pm at the Seaside Civic and Convention Center. \nEnjoy a delicious multi-course dinner\, a fun and impressive auction\, live entertainment\, and a wonderful program that shares more about the Center’s work of rescue and rehabilitation of vulnerable wildlife\, and conservation education. \nLearn more at coastwildlife.org/event/founders-night-2025/
URL:https://www.kuknradio.com/event/seabird-soiree/
LOCATION:Seaside Civic & Convention Center\, 415 1st Ave\, Seaside\, OR\, United States
CATEGORIES:Community Events
GEO:45.9944;-123.925806
X-APPLE-STRUCTURED-LOCATION;VALUE=URI;X-ADDRESS=Seaside Civic & Convention Center 415 1st Ave Seaside OR United States;X-APPLE-RADIUS=500;X-TITLE=415 1st Ave:geo:-123.925806,45.9944
END:VEVENT
BEGIN:VEVENT
DTSTART;TZID=America/Los_Angeles:20251025T100000
DTEND;TZID=America/Los_Angeles:20251025T223000
DTSTAMP:20260424T155440
CREATED:20250925T170529Z
LAST-MODIFIED:20250925T170529Z
UID:10002075-1761386400-1761431400@www.kuknradio.com
SUMMARY:Seaside Sashay Square Dance Festival
DESCRIPTION:Throw on your best square dance get-up\, and kick up your heels! The Seaside Sashay Square Dance Festival at the Seaside Convention Center is October 24th and 25th. Enjoy a craft fair\, dancing\, door prizes and more. \nOpen to the public – Tickets at the door\, or ahead of time at hayshakers.org
URL:https://www.kuknradio.com/event/seaside-sashay-square-dance-festival-2/
LOCATION:Seaside Civic & Convention Center\, 415 1st Ave\, Seaside\, OR\, United States
CATEGORIES:Community Events
GEO:45.9944;-123.925806
X-APPLE-STRUCTURED-LOCATION;VALUE=URI;X-ADDRESS=Seaside Civic & Convention Center 415 1st Ave Seaside OR United States;X-APPLE-RADIUS=500;X-TITLE=415 1st Ave:geo:-123.925806,45.9944
END:VEVENT
BEGIN:VEVENT
DTSTART;TZID=America/Los_Angeles:20251024T190000
DTEND;TZID=America/Los_Angeles:20251024T223000
DTSTAMP:20260424T155440
CREATED:20250925T170529Z
LAST-MODIFIED:20250925T170529Z
UID:10002074-1761332400-1761345000@www.kuknradio.com
SUMMARY:Seaside Sashay Square Dance Festival
DESCRIPTION:Throw on your best square dance get-up\, and kick up your heels! The Seaside Sashay Square Dance Festival at the Seaside Convention Center is October 24th and 25th. Enjoy a craft fair\, dancing\, door prizes and more. \nOpen to the public – Tickets at the door\, or ahead of time at hayshakers.org
URL:https://www.kuknradio.com/event/seaside-sashay-square-dance-festival/
LOCATION:Seaside Civic & Convention Center\, 415 1st Ave\, Seaside\, OR\, United States
CATEGORIES:Community Events
GEO:45.9944;-123.925806
X-APPLE-STRUCTURED-LOCATION;VALUE=URI;X-ADDRESS=Seaside Civic & Convention Center 415 1st Ave Seaside OR United States;X-APPLE-RADIUS=500;X-TITLE=415 1st Ave:geo:-123.925806,45.9944
END:VEVENT
BEGIN:VEVENT
DTSTART;TZID=America/Los_Angeles:20251019T000000
DTEND;TZID=America/Los_Angeles:20251019T235959
DTSTAMP:20260424T155440
CREATED:20250925T170529Z
LAST-MODIFIED:20250925T170529Z
UID:10002072-1760832000-1760918399@www.kuknradio.com
SUMMARY:MWVANA Convention
DESCRIPTION:“Any addict\, can stop using drugs\, lose the desire to use\, and find a new way to live.” Find hope and the promise of freedom at the Mid-Willamette Valley Area of Narcotics Anonymous (MWVANA) Convention. It’s great presentations\, community\, food\, a comedy show and more at the Seaside Civic and Convention Center: October 17-19. \nThis event is open to the public! Register and learn more at mwvana.org/convention
URL:https://www.kuknradio.com/event/mwvana-convention-3/
LOCATION:Seaside Civic & Convention Center\, 415 1st Ave\, Seaside\, OR\, United States
CATEGORIES:Community Events
GEO:45.9944;-123.925806
X-APPLE-STRUCTURED-LOCATION;VALUE=URI;X-ADDRESS=Seaside Civic & Convention Center 415 1st Ave Seaside OR United States;X-APPLE-RADIUS=500;X-TITLE=415 1st Ave:geo:-123.925806,45.9944
END:VEVENT
BEGIN:VEVENT
DTSTART;TZID=America/Los_Angeles:20251018T000000
DTEND;TZID=America/Los_Angeles:20251018T235959
DTSTAMP:20260424T155440
CREATED:20250925T170528Z
LAST-MODIFIED:20250925T170528Z
UID:10002071-1760745600-1760831999@www.kuknradio.com
SUMMARY:MWVANA Convention
DESCRIPTION:“Any addict\, can stop using drugs\, lose the desire to use\, and find a new way to live.” Find hope and the promise of freedom at the Mid-Willamette Valley Area of Narcotics Anonymous (MWVANA) Convention. It’s great presentations\, community\, food\, a comedy show and more at the Seaside Civic and Convention Center: October 17-19. \nThis event is open to the public! Register and learn more at mwvana.org/convention
URL:https://www.kuknradio.com/event/mwvana-convention-2/
LOCATION:Seaside Civic & Convention Center\, 415 1st Ave\, Seaside\, OR\, United States
CATEGORIES:Community Events
GEO:45.9944;-123.925806
X-APPLE-STRUCTURED-LOCATION;VALUE=URI;X-ADDRESS=Seaside Civic & Convention Center 415 1st Ave Seaside OR United States;X-APPLE-RADIUS=500;X-TITLE=415 1st Ave:geo:-123.925806,45.9944
END:VEVENT
BEGIN:VEVENT
DTSTART;TZID=America/Los_Angeles:20251017T000000
DTEND;TZID=America/Los_Angeles:20251017T235959
DTSTAMP:20260424T155440
CREATED:20250925T170528Z
LAST-MODIFIED:20250925T170528Z
UID:10002070-1760659200-1760745599@www.kuknradio.com
SUMMARY:MWVANA Convention
DESCRIPTION:“Any addict\, can stop using drugs\, lose the desire to use\, and find a new way to live.” Find hope and the promise of freedom at the Mid-Willamette Valley Area of Narcotics Anonymous (MWVANA) Convention. It’s great presentations\, community\, food\, a comedy show and more at the Seaside Civic and Convention Center: October 17-19. \nThis event is open to the public! Register and learn more at mwvana.org/convention
URL:https://www.kuknradio.com/event/mwvana-convention/
LOCATION:Seaside Civic & Convention Center\, 415 1st Ave\, Seaside\, OR\, United States
CATEGORIES:Community Events
GEO:45.9944;-123.925806
X-APPLE-STRUCTURED-LOCATION;VALUE=URI;X-ADDRESS=Seaside Civic & Convention Center 415 1st Ave Seaside OR United States;X-APPLE-RADIUS=500;X-TITLE=415 1st Ave:geo:-123.925806,45.9944
END:VEVENT
BEGIN:VEVENT
DTSTART;TZID=America/Los_Angeles:20241218T130000
DTEND;TZID=America/Los_Angeles:20241218T144500
DTSTAMP:20260424T155440
CREATED:20241218T070659Z
LAST-MODIFIED:20241218T070659Z
UID:10001390-1734526800-1734533100@www.kuknradio.com
SUMMARY:Santa's Workshop - toy pick up
DESCRIPTION:Seaside Rotary has been busy helping in Santa’s Workshop\, working on gifts for local kids in need! If your family needs a little extra help this holiday season\, and you live in the Seaside School District: bring proof of address and pick up toys for your kids on Wednesday\, December 18th at the Seaside Civic and Convention Center. Walk ins will be accepted from 1-2:45pm. \nFor more information: https://docs.google.com/forms/d/e/1FAIpQLSeWjWBVKXDQ8bo5wZeh3AAZFsg_4ljvv3KIS6-zlPrRYVq9XA/viewform?pli=1
URL:https://www.kuknradio.com/event/santas-workshop-toy-pick-up/
LOCATION:Seaside Civic & Convention Center\, 415 1st Ave\, Seaside\, OR\, United States
GEO:45.9944;-123.925806
X-APPLE-STRUCTURED-LOCATION;VALUE=URI;X-ADDRESS=Seaside Civic & Convention Center 415 1st Ave Seaside OR United States;X-APPLE-RADIUS=500;X-TITLE=415 1st Ave:geo:-123.925806,45.9944
END:VEVENT
BEGIN:VEVENT
DTSTART;TZID=America/Los_Angeles:20241112T180000
DTEND;TZID=America/Los_Angeles:20241112T203000
DTSTAMP:20260424T155440
CREATED:20241103T192542Z
LAST-MODIFIED:20241216T203201Z
UID:10000609-1731434400-1731443400@www.kuknradio.com
SUMMARY:Iron Chef Goes Coastal
DESCRIPTION:Iron Chef Goes Coastal is coming up Tuesday\, November 12th in Seaside! Doors at 4:30\, event starts at 6. Taste delicacies from more than 12 local  restaurants and vote for your favorite while local chefs from Silver Salmon\, Surf 2 Soul\, and The Stephanie Inn battle it out on-stage for the coveted Iron Chef title. \nTickets and more at ClatsopUnitedWay.org.
URL:https://www.kuknradio.com/event/iron-chef-goes-coastal/
LOCATION:Seaside Civic & Convention Center\, 415 1st Ave\, Seaside\, OR\, United States
CATEGORIES:Community Events
GEO:45.9944;-123.925806
X-APPLE-STRUCTURED-LOCATION;VALUE=URI;X-ADDRESS=Seaside Civic & Convention Center 415 1st Ave Seaside OR United States;X-APPLE-RADIUS=500;X-TITLE=415 1st Ave:geo:-123.925806,45.9944
END:VEVENT
END:VCALENDAR