BEGIN:VCALENDAR
VERSION:2.0
PRODID:-//KUKN 105.5 Cookin&#039; Country - ECPv6.15.20//NONSGML v1.0//EN
CALSCALE:GREGORIAN
METHOD:PUBLISH
X-WR-CALNAME:KUKN 105.5 Cookin&#039; Country
X-ORIGINAL-URL:https://www.kuknradio.com
X-WR-CALDESC:Events for KUKN 105.5 Cookin&#039; Country
REFRESH-INTERVAL;VALUE=DURATION:PT1H
X-Robots-Tag:noindex
X-PUBLISHED-TTL:PT1H
BEGIN:VTIMEZONE
TZID:America/Los_Angeles
BEGIN:DAYLIGHT
TZOFFSETFROM:-0800
TZOFFSETTO:-0700
TZNAME:PDT
DTSTART:20240310T100000
END:DAYLIGHT
BEGIN:STANDARD
TZOFFSETFROM:-0700
TZOFFSETTO:-0800
TZNAME:PST
DTSTART:20241103T090000
END:STANDARD
BEGIN:DAYLIGHT
TZOFFSETFROM:-0800
TZOFFSETTO:-0700
TZNAME:PDT
DTSTART:20250309T100000
END:DAYLIGHT
BEGIN:STANDARD
TZOFFSETFROM:-0700
TZOFFSETTO:-0800
TZNAME:PST
DTSTART:20251102T090000
END:STANDARD
BEGIN:DAYLIGHT
TZOFFSETFROM:-0800
TZOFFSETTO:-0700
TZNAME:PDT
DTSTART:20260308T100000
END:DAYLIGHT
BEGIN:STANDARD
TZOFFSETFROM:-0700
TZOFFSETTO:-0800
TZNAME:PST
DTSTART:20261101T090000
END:STANDARD
END:VTIMEZONE
BEGIN:VEVENT
DTSTART;TZID=America/Los_Angeles:20251004T160000
DTEND;TZID=America/Los_Angeles:20251004T170000
DTSTAMP:20260425T032536
CREATED:20250925T180703Z
LAST-MODIFIED:20250925T180703Z
UID:10002080-1759593600-1759597200@www.kuknradio.com
SUMMARY:Stories and Songs of Hank Williams
DESCRIPTION:“Move It On Over\,” performed by Joel Underwood\, shares the stories and songs of Hank Williams! October 4th\, 4pm at the River City Playhouse in Ilwaco.
URL:https://www.kuknradio.com/event/stories-and-songs-of-hank-williams/
LOCATION:River City Playhouse\, 127 Lake St SE\, Ilwaco\, WA\, United States
CATEGORIES:Community Events
GEO:46.308219;-124.04289
X-APPLE-STRUCTURED-LOCATION;VALUE=URI;X-ADDRESS=River City Playhouse 127 Lake St SE Ilwaco WA United States;X-APPLE-RADIUS=500;X-TITLE=127 Lake St SE:geo:-124.04289,46.308219
END:VEVENT
BEGIN:VEVENT
DTSTART;TZID=America/Los_Angeles:20250824T140000
DTEND;TZID=America/Los_Angeles:20250824T153000
DTSTAMP:20260425T032536
CREATED:20250804T232005Z
LAST-MODIFIED:20250804T232005Z
UID:10001920-1756044000-1756049400@www.kuknradio.com
SUMMARY:RIPCORD
DESCRIPTION:Nonstop hilarious trouble comes their way when two stubborn seniors make a bet. Presented by your community theater group\, the Peninsula Players… see RIPCORD at the River City Playhouse in Ilwaco weekends from August 8th-24th. Friday and Saturday shows at 7pm\, Sunday matinees at 2pm. \nFor more information: peninsula-players.com
URL:https://www.kuknradio.com/event/ripcord-9/
LOCATION:River City Playhouse\, 127 Lake St SE\, Ilwaco\, WA\, United States
CATEGORIES:Community Events
GEO:46.308219;-124.04289
X-APPLE-STRUCTURED-LOCATION;VALUE=URI;X-ADDRESS=River City Playhouse 127 Lake St SE Ilwaco WA United States;X-APPLE-RADIUS=500;X-TITLE=127 Lake St SE:geo:-124.04289,46.308219
END:VEVENT
BEGIN:VEVENT
DTSTART;TZID=America/Los_Angeles:20250823T190000
DTEND;TZID=America/Los_Angeles:20250823T203000
DTSTAMP:20260425T032536
CREATED:20250804T232005Z
LAST-MODIFIED:20250804T232005Z
UID:10001919-1755975600-1755981000@www.kuknradio.com
SUMMARY:RIPCORD
DESCRIPTION:Nonstop hilarious trouble comes their way when two stubborn seniors make a bet. Presented by your community theater group\, the Peninsula Players… see RIPCORD at the River City Playhouse in Ilwaco weekends from August 8th-24th. Friday and Saturday shows at 7pm\, Sunday matinees at 2pm. \nFor more information: peninsula-players.com
URL:https://www.kuknradio.com/event/ripcord-8/
LOCATION:River City Playhouse\, 127 Lake St SE\, Ilwaco\, WA\, United States
CATEGORIES:Community Events
GEO:46.308219;-124.04289
X-APPLE-STRUCTURED-LOCATION;VALUE=URI;X-ADDRESS=River City Playhouse 127 Lake St SE Ilwaco WA United States;X-APPLE-RADIUS=500;X-TITLE=127 Lake St SE:geo:-124.04289,46.308219
END:VEVENT
BEGIN:VEVENT
DTSTART;TZID=America/Los_Angeles:20250822T190000
DTEND;TZID=America/Los_Angeles:20250822T203000
DTSTAMP:20260425T032536
CREATED:20250804T232004Z
LAST-MODIFIED:20250804T232004Z
UID:10001918-1755889200-1755894600@www.kuknradio.com
SUMMARY:RIPCORD
DESCRIPTION:Nonstop hilarious trouble comes their way when two stubborn seniors make a bet. Presented by your community theater group\, the Peninsula Players… see RIPCORD at the River City Playhouse in Ilwaco weekends from August 8th-24th. Friday and Saturday shows at 7pm\, Sunday matinees at 2pm. \nFor more information: peninsula-players.com
URL:https://www.kuknradio.com/event/ripcord-7/
LOCATION:River City Playhouse\, 127 Lake St SE\, Ilwaco\, WA\, United States
CATEGORIES:Community Events
GEO:46.308219;-124.04289
X-APPLE-STRUCTURED-LOCATION;VALUE=URI;X-ADDRESS=River City Playhouse 127 Lake St SE Ilwaco WA United States;X-APPLE-RADIUS=500;X-TITLE=127 Lake St SE:geo:-124.04289,46.308219
END:VEVENT
BEGIN:VEVENT
DTSTART;TZID=America/Los_Angeles:20250817T140000
DTEND;TZID=America/Los_Angeles:20250817T153000
DTSTAMP:20260425T032536
CREATED:20250804T232004Z
LAST-MODIFIED:20250804T232004Z
UID:10001917-1755439200-1755444600@www.kuknradio.com
SUMMARY:RIPCORD
DESCRIPTION:Nonstop hilarious trouble comes their way when two stubborn seniors make a bet. Presented by your community theater group\, the Peninsula Players… see RIPCORD at the River City Playhouse in Ilwaco weekends from August 8th-24th. Friday and Saturday shows at 7pm\, Sunday matinees at 2pm. \nFor more information: peninsula-players.com
URL:https://www.kuknradio.com/event/ripcord-6/
LOCATION:River City Playhouse\, 127 Lake St SE\, Ilwaco\, WA\, United States
CATEGORIES:Community Events
GEO:46.308219;-124.04289
X-APPLE-STRUCTURED-LOCATION;VALUE=URI;X-ADDRESS=River City Playhouse 127 Lake St SE Ilwaco WA United States;X-APPLE-RADIUS=500;X-TITLE=127 Lake St SE:geo:-124.04289,46.308219
END:VEVENT
BEGIN:VEVENT
DTSTART;TZID=America/Los_Angeles:20250816T190000
DTEND;TZID=America/Los_Angeles:20250816T203000
DTSTAMP:20260425T032536
CREATED:20250804T232004Z
LAST-MODIFIED:20250804T232004Z
UID:10001916-1755370800-1755376200@www.kuknradio.com
SUMMARY:RIPCORD
DESCRIPTION:Nonstop hilarious trouble comes their way when two stubborn seniors make a bet. Presented by your community theater group\, the Peninsula Players… see RIPCORD at the River City Playhouse in Ilwaco weekends from August 8th-24th. Friday and Saturday shows at 7pm\, Sunday matinees at 2pm. \nFor more information: peninsula-players.com
URL:https://www.kuknradio.com/event/ripcord-5/
LOCATION:River City Playhouse\, 127 Lake St SE\, Ilwaco\, WA\, United States
CATEGORIES:Community Events
GEO:46.308219;-124.04289
X-APPLE-STRUCTURED-LOCATION;VALUE=URI;X-ADDRESS=River City Playhouse 127 Lake St SE Ilwaco WA United States;X-APPLE-RADIUS=500;X-TITLE=127 Lake St SE:geo:-124.04289,46.308219
END:VEVENT
BEGIN:VEVENT
DTSTART;TZID=America/Los_Angeles:20250815T190000
DTEND;TZID=America/Los_Angeles:20250815T203000
DTSTAMP:20260425T032536
CREATED:20250804T232004Z
LAST-MODIFIED:20250804T232004Z
UID:10001915-1755284400-1755289800@www.kuknradio.com
SUMMARY:RIPCORD
DESCRIPTION:Nonstop hilarious trouble comes their way when two stubborn seniors make a bet. Presented by your community theater group\, the Peninsula Players… see RIPCORD at the River City Playhouse in Ilwaco weekends from August 8th-24th. Friday and Saturday shows at 7pm\, Sunday matinees at 2pm. \nFor more information: peninsula-players.com
URL:https://www.kuknradio.com/event/ripcord-4/
LOCATION:River City Playhouse\, 127 Lake St SE\, Ilwaco\, WA\, United States
CATEGORIES:Community Events
GEO:46.308219;-124.04289
X-APPLE-STRUCTURED-LOCATION;VALUE=URI;X-ADDRESS=River City Playhouse 127 Lake St SE Ilwaco WA United States;X-APPLE-RADIUS=500;X-TITLE=127 Lake St SE:geo:-124.04289,46.308219
END:VEVENT
BEGIN:VEVENT
DTSTART;TZID=America/Los_Angeles:20250810T140000
DTEND;TZID=America/Los_Angeles:20250810T153000
DTSTAMP:20260425T032536
CREATED:20250804T232003Z
LAST-MODIFIED:20250804T232003Z
UID:10001914-1754834400-1754839800@www.kuknradio.com
SUMMARY:RIPCORD
DESCRIPTION:Nonstop hilarious trouble comes their way when two stubborn seniors make a bet. Presented by your community theater group\, the Peninsula Players… see RIPCORD at the River City Playhouse in Ilwaco weekends from August 8th-24th. Friday and Saturday shows at 7pm\, Sunday matinees at 2pm. \nFor more information: peninsula-players.com
URL:https://www.kuknradio.com/event/ripcord-3/
LOCATION:River City Playhouse\, 127 Lake St SE\, Ilwaco\, WA\, United States
CATEGORIES:Community Events
GEO:46.308219;-124.04289
X-APPLE-STRUCTURED-LOCATION;VALUE=URI;X-ADDRESS=River City Playhouse 127 Lake St SE Ilwaco WA United States;X-APPLE-RADIUS=500;X-TITLE=127 Lake St SE:geo:-124.04289,46.308219
END:VEVENT
BEGIN:VEVENT
DTSTART;TZID=America/Los_Angeles:20250809T190000
DTEND;TZID=America/Los_Angeles:20250809T203000
DTSTAMP:20260425T032536
CREATED:20250804T232003Z
LAST-MODIFIED:20250804T232003Z
UID:10001913-1754766000-1754771400@www.kuknradio.com
SUMMARY:RIPCORD
DESCRIPTION:Nonstop hilarious trouble comes their way when two stubborn seniors make a bet. Presented by your community theater group\, the Peninsula Players… see RIPCORD at the River City Playhouse in Ilwaco weekends from August 8th-24th. Friday and Saturday shows at 7pm\, Sunday matinees at 2pm. \nFor more information: peninsula-players.com
URL:https://www.kuknradio.com/event/ripcord-2/
LOCATION:River City Playhouse\, 127 Lake St SE\, Ilwaco\, WA\, United States
CATEGORIES:Community Events
GEO:46.308219;-124.04289
X-APPLE-STRUCTURED-LOCATION;VALUE=URI;X-ADDRESS=River City Playhouse 127 Lake St SE Ilwaco WA United States;X-APPLE-RADIUS=500;X-TITLE=127 Lake St SE:geo:-124.04289,46.308219
END:VEVENT
BEGIN:VEVENT
DTSTART;TZID=America/Los_Angeles:20250808T190000
DTEND;TZID=America/Los_Angeles:20250808T203000
DTSTAMP:20260425T032536
CREATED:20250804T232003Z
LAST-MODIFIED:20250804T232003Z
UID:10001912-1754679600-1754685000@www.kuknradio.com
SUMMARY:RIPCORD
DESCRIPTION:Nonstop hilarious trouble comes their way when two stubborn seniors make a bet. Presented by your community theater group\, the Peninsula Players… see RIPCORD at the River City Playhouse in Ilwaco weekends from August 8th-24th. Friday and Saturday shows at 7pm\, Sunday matinees at 2pm. \nFor more information: peninsula-players.com
URL:https://www.kuknradio.com/event/ripcord/
LOCATION:River City Playhouse\, 127 Lake St SE\, Ilwaco\, WA\, United States
CATEGORIES:Community Events
GEO:46.308219;-124.04289
X-APPLE-STRUCTURED-LOCATION;VALUE=URI;X-ADDRESS=River City Playhouse 127 Lake St SE Ilwaco WA United States;X-APPLE-RADIUS=500;X-TITLE=127 Lake St SE:geo:-124.04289,46.308219
END:VEVENT
END:VCALENDAR