BEGIN:VCALENDAR
VERSION:2.0
PRODID:-//KUKN 105.5 Cookin&#039; Country - ECPv6.15.20//NONSGML v1.0//EN
CALSCALE:GREGORIAN
METHOD:PUBLISH
X-ORIGINAL-URL:https://www.kuknradio.com
X-WR-CALDESC:Events for KUKN 105.5 Cookin&#039; Country
REFRESH-INTERVAL;VALUE=DURATION:PT1H
X-Robots-Tag:noindex
X-PUBLISHED-TTL:PT1H
BEGIN:VTIMEZONE
TZID:America/Los_Angeles
BEGIN:DAYLIGHT
TZOFFSETFROM:-0800
TZOFFSETTO:-0700
TZNAME:PDT
DTSTART:20240310T100000
END:DAYLIGHT
BEGIN:STANDARD
TZOFFSETFROM:-0700
TZOFFSETTO:-0800
TZNAME:PST
DTSTART:20241103T090000
END:STANDARD
BEGIN:DAYLIGHT
TZOFFSETFROM:-0800
TZOFFSETTO:-0700
TZNAME:PDT
DTSTART:20250309T100000
END:DAYLIGHT
BEGIN:STANDARD
TZOFFSETFROM:-0700
TZOFFSETTO:-0800
TZNAME:PST
DTSTART:20251102T090000
END:STANDARD
BEGIN:DAYLIGHT
TZOFFSETFROM:-0800
TZOFFSETTO:-0700
TZNAME:PDT
DTSTART:20260308T100000
END:DAYLIGHT
BEGIN:STANDARD
TZOFFSETFROM:-0700
TZOFFSETTO:-0800
TZNAME:PST
DTSTART:20261101T090000
END:STANDARD
END:VTIMEZONE
BEGIN:VEVENT
DTSTART;TZID=America/Los_Angeles:20250827T180000
DTEND;TZID=America/Los_Angeles:20250827T200000
DTSTAMP:20260425T115011
CREATED:20250703T194945Z
LAST-MODIFIED:20250703T194945Z
UID:10001777-1756317600-1756324800@www.kuknradio.com
SUMMARY:Rivertime in Rainier
DESCRIPTION:Check out FREE family-friendly music every Wednesday\, 6pm\, June through August\, right on the water at RiverFront Park (Rainier City Park) in Rainier!Plus a challenge course\, vendors\, great food and drinks!
URL:https://www.kuknradio.com/event/rivertime-in-rainier-13/
LOCATION:Rainier City Park\, 101 W A St\, Rainier\, OR\, United States
CATEGORIES:Community Events
GEO:46.089908;-122.935658
X-APPLE-STRUCTURED-LOCATION;VALUE=URI;X-ADDRESS=Rainier City Park 101 W A St Rainier OR United States;X-APPLE-RADIUS=500;X-TITLE=101 W A St:geo:-122.935658,46.089908
END:VEVENT
BEGIN:VEVENT
DTSTART;TZID=America/Los_Angeles:20250820T180000
DTEND;TZID=America/Los_Angeles:20250820T200000
DTSTAMP:20260425T115011
CREATED:20250626T193546Z
LAST-MODIFIED:20250626T193546Z
UID:10001747-1755712800-1755720000@www.kuknradio.com
SUMMARY:Rivertime in Rainier
DESCRIPTION:Check out FREE family-friendly music every Wednesday\, 6pm\, June through August\, right on the water at RiverFront Park (Rainier City Park) in Rainier!Plus a challenge course\, vendors\, great food and drinks!
URL:https://www.kuknradio.com/event/rivertime-in-rainier-12/
LOCATION:Rainier City Park\, 101 W A St\, Rainier\, OR\, United States
CATEGORIES:Community Events
GEO:46.089908;-122.935658
X-APPLE-STRUCTURED-LOCATION;VALUE=URI;X-ADDRESS=Rainier City Park 101 W A St Rainier OR United States;X-APPLE-RADIUS=500;X-TITLE=101 W A St:geo:-122.935658,46.089908
END:VEVENT
BEGIN:VEVENT
DTSTART;TZID=America/Los_Angeles:20250813T180000
DTEND;TZID=America/Los_Angeles:20250813T200000
DTSTAMP:20260425T115011
CREATED:20250616T090813Z
LAST-MODIFIED:20250616T090813Z
UID:10001728-1755108000-1755115200@www.kuknradio.com
SUMMARY:Rivertime in Rainier
DESCRIPTION:Check out FREE family-friendly music every Wednesday\, 6pm\, June through August\, right on the water at RiverFront Park (Rainier City Park) in Rainier!Plus a challenge course\, vendors\, great food and drinks!
URL:https://www.kuknradio.com/event/rivertime-in-rainier-11/
LOCATION:Rainier City Park\, 101 W A St\, Rainier\, OR\, United States
CATEGORIES:Community Events
GEO:46.089908;-122.935658
X-APPLE-STRUCTURED-LOCATION;VALUE=URI;X-ADDRESS=Rainier City Park 101 W A St Rainier OR United States;X-APPLE-RADIUS=500;X-TITLE=101 W A St:geo:-122.935658,46.089908
END:VEVENT
BEGIN:VEVENT
DTSTART;TZID=America/Los_Angeles:20250806T180000
DTEND;TZID=America/Los_Angeles:20250806T200000
DTSTAMP:20260425T115011
CREATED:20250608T202118Z
LAST-MODIFIED:20250608T202118Z
UID:10001675-1754503200-1754510400@www.kuknradio.com
SUMMARY:Rivertime in Rainier
DESCRIPTION:Check out FREE family-friendly music every Wednesday\, 6pm\, June through August\, right on the water at RiverFront Park (Rainier City Park) in Rainier!Plus a challenge course\, vendors\, great food and drinks!
URL:https://www.kuknradio.com/event/rivertime-in-rainier-10/
LOCATION:Rainier City Park\, 101 W A St\, Rainier\, OR\, United States
CATEGORIES:Community Events
GEO:46.089908;-122.935658
X-APPLE-STRUCTURED-LOCATION;VALUE=URI;X-ADDRESS=Rainier City Park 101 W A St Rainier OR United States;X-APPLE-RADIUS=500;X-TITLE=101 W A St:geo:-122.935658,46.089908
END:VEVENT
BEGIN:VEVENT
DTSTART;TZID=America/Los_Angeles:20250730T180000
DTEND;TZID=America/Los_Angeles:20250730T200000
DTSTAMP:20260425T115011
CREATED:20250601T102059Z
LAST-MODIFIED:20250601T102059Z
UID:10001664-1753898400-1753905600@www.kuknradio.com
SUMMARY:Rivertime in Rainier
DESCRIPTION:Check out FREE family-friendly music every Wednesday\, 6pm\, June through August\, right on the water at RiverFront Park (Rainier City Park) in Rainier!Plus a challenge course\, vendors\, great food and drinks!
URL:https://www.kuknradio.com/event/rivertime-in-rainier-9/
LOCATION:Rainier City Park\, 101 W A St\, Rainier\, OR\, United States
CATEGORIES:Community Events
GEO:46.089908;-122.935658
X-APPLE-STRUCTURED-LOCATION;VALUE=URI;X-ADDRESS=Rainier City Park 101 W A St Rainier OR United States;X-APPLE-RADIUS=500;X-TITLE=101 W A St:geo:-122.935658,46.089908
END:VEVENT
BEGIN:VEVENT
DTSTART;TZID=America/Los_Angeles:20250723T180000
DTEND;TZID=America/Los_Angeles:20250723T200000
DTSTAMP:20260425T115011
CREATED:20250525T000657Z
LAST-MODIFIED:20250525T000657Z
UID:10001655-1753293600-1753300800@www.kuknradio.com
SUMMARY:Rivertime in Rainier
DESCRIPTION:Check out FREE family-friendly music every Wednesday\, 6pm\, June through August\, right on the water at RiverFront Park (Rainier City Park) in Rainier!Plus a challenge course\, vendors\, great food and drinks!
URL:https://www.kuknradio.com/event/rivertime-in-rainier-8/
LOCATION:Rainier City Park\, 101 W A St\, Rainier\, OR\, United States
CATEGORIES:Community Events
GEO:46.089908;-122.935658
X-APPLE-STRUCTURED-LOCATION;VALUE=URI;X-ADDRESS=Rainier City Park 101 W A St Rainier OR United States;X-APPLE-RADIUS=500;X-TITLE=101 W A St:geo:-122.935658,46.089908
END:VEVENT
BEGIN:VEVENT
DTSTART;TZID=America/Los_Angeles:20250716T180000
DTEND;TZID=America/Los_Angeles:20250716T200000
DTSTAMP:20260425T115011
CREATED:20250522T124954Z
LAST-MODIFIED:20250522T124954Z
UID:10001645-1752688800-1752696000@www.kuknradio.com
SUMMARY:Rivertime in Rainier
DESCRIPTION:Check out FREE family-friendly music every Wednesday\, 6pm\, June through August\, right on the water at RiverFront Park (Rainier City Park) in Rainier!Plus a challenge course\, vendors\, great food and drinks!
URL:https://www.kuknradio.com/event/rivertime-in-rainier-7/
LOCATION:Rainier City Park\, 101 W A St\, Rainier\, OR\, United States
CATEGORIES:Community Events
GEO:46.089908;-122.935658
X-APPLE-STRUCTURED-LOCATION;VALUE=URI;X-ADDRESS=Rainier City Park 101 W A St Rainier OR United States;X-APPLE-RADIUS=500;X-TITLE=101 W A St:geo:-122.935658,46.089908
END:VEVENT
BEGIN:VEVENT
DTSTART;TZID=America/Los_Angeles:20250709T180000
DTEND;TZID=America/Los_Angeles:20250709T200000
DTSTAMP:20260425T115011
CREATED:20250511T000447Z
LAST-MODIFIED:20250511T000447Z
UID:10001605-1752084000-1752091200@www.kuknradio.com
SUMMARY:Rivertime in Rainier
DESCRIPTION:Check out FREE family-friendly music every Wednesday\, 6pm\, June through August\, right on the water at RiverFront Park (Rainier City Park) in Rainier!Plus a challenge course\, vendors\, great food and drinks!
URL:https://www.kuknradio.com/event/rivertime-in-rainier-6/
LOCATION:Rainier City Park\, 101 W A St\, Rainier\, OR\, United States
CATEGORIES:Community Events
GEO:46.089908;-122.935658
X-APPLE-STRUCTURED-LOCATION;VALUE=URI;X-ADDRESS=Rainier City Park 101 W A St Rainier OR United States;X-APPLE-RADIUS=500;X-TITLE=101 W A St:geo:-122.935658,46.089908
END:VEVENT
BEGIN:VEVENT
DTSTART;TZID=America/Los_Angeles:20250702T180000
DTEND;TZID=America/Los_Angeles:20250702T200000
DTSTAMP:20260425T115011
CREATED:20250508T123600Z
LAST-MODIFIED:20250508T123600Z
UID:10001599-1751479200-1751486400@www.kuknradio.com
SUMMARY:Rivertime in Rainier
DESCRIPTION:Check out FREE family-friendly music every Wednesday\, 6pm\, June through August\, right on the water at RiverFront Park (Rainier City Park) in Rainier!Plus a challenge course\, vendors\, great food and drinks!
URL:https://www.kuknradio.com/event/rivertime-in-rainier-5/
LOCATION:Rainier City Park\, 101 W A St\, Rainier\, OR\, United States
CATEGORIES:Community Events
GEO:46.089908;-122.935658
X-APPLE-STRUCTURED-LOCATION;VALUE=URI;X-ADDRESS=Rainier City Park 101 W A St Rainier OR United States;X-APPLE-RADIUS=500;X-TITLE=101 W A St:geo:-122.935658,46.089908
END:VEVENT
BEGIN:VEVENT
DTSTART;TZID=America/Los_Angeles:20250625T180000
DTEND;TZID=America/Los_Angeles:20250625T200000
DTSTAMP:20260425T115011
CREATED:20250430T130842Z
LAST-MODIFIED:20250430T130842Z
UID:10001584-1750874400-1750881600@www.kuknradio.com
SUMMARY:Rivertime in Rainier
DESCRIPTION:Check out FREE family-friendly music every Wednesday\, 6pm\, June through August\, right on the water at RiverFront Park (Rainier City Park) in Rainier!Plus a challenge course\, vendors\, great food and drinks!
URL:https://www.kuknradio.com/event/rivertime-in-rainier-4/
LOCATION:Rainier City Park\, 101 W A St\, Rainier\, OR\, United States
CATEGORIES:Community Events
GEO:46.089908;-122.935658
X-APPLE-STRUCTURED-LOCATION;VALUE=URI;X-ADDRESS=Rainier City Park 101 W A St Rainier OR United States;X-APPLE-RADIUS=500;X-TITLE=101 W A St:geo:-122.935658,46.089908
END:VEVENT
BEGIN:VEVENT
DTSTART;TZID=America/Los_Angeles:20250618T180000
DTEND;TZID=America/Los_Angeles:20250618T200000
DTSTAMP:20260425T115011
CREATED:20250423T093601Z
LAST-MODIFIED:20250423T093601Z
UID:10001575-1750269600-1750276800@www.kuknradio.com
SUMMARY:Rivertime in Rainier
DESCRIPTION:Check out FREE family-friendly music every Wednesday\, 6pm\, June through August\, right on the water at RiverFront Park (Rainier City Park) in Rainier!Plus a challenge course\, vendors\, great food and drinks!
URL:https://www.kuknradio.com/event/rivertime-in-rainier-3/
LOCATION:Rainier City Park\, 101 W A St\, Rainier\, OR\, United States
CATEGORIES:Community Events
GEO:46.089908;-122.935658
X-APPLE-STRUCTURED-LOCATION;VALUE=URI;X-ADDRESS=Rainier City Park 101 W A St Rainier OR United States;X-APPLE-RADIUS=500;X-TITLE=101 W A St:geo:-122.935658,46.089908
END:VEVENT
BEGIN:VEVENT
DTSTART;TZID=America/Los_Angeles:20250611T180000
DTEND;TZID=America/Los_Angeles:20250611T200000
DTSTAMP:20260425T115011
CREATED:20250423T093601Z
LAST-MODIFIED:20250423T093601Z
UID:10001574-1749664800-1749672000@www.kuknradio.com
SUMMARY:Rivertime in Rainier
DESCRIPTION:Check out FREE family-friendly music every Wednesday\, 6pm\, June through August\, right on the water at RiverFront Park (Rainier City Park) in Rainier!Plus a challenge course\, vendors\, great food and drinks!
URL:https://www.kuknradio.com/event/rivertime-in-rainier-2/
LOCATION:Rainier City Park\, 101 W A St\, Rainier\, OR\, United States
CATEGORIES:Community Events
GEO:46.089908;-122.935658
X-APPLE-STRUCTURED-LOCATION;VALUE=URI;X-ADDRESS=Rainier City Park 101 W A St Rainier OR United States;X-APPLE-RADIUS=500;X-TITLE=101 W A St:geo:-122.935658,46.089908
END:VEVENT
BEGIN:VEVENT
DTSTART;TZID=America/Los_Angeles:20250604T180000
DTEND;TZID=America/Los_Angeles:20250604T200000
DTSTAMP:20260425T115011
CREATED:20250423T093601Z
LAST-MODIFIED:20250423T093601Z
UID:10001573-1749060000-1749067200@www.kuknradio.com
SUMMARY:Rivertime in Rainier
DESCRIPTION:Check out FREE family-friendly music every Wednesday\, 6pm\, June through August\, right on the water at RiverFront Park (Rainier City Park) in Rainier!Plus a challenge course\, vendors\, great food and drinks!
URL:https://www.kuknradio.com/event/rivertime-in-rainier/
LOCATION:Rainier City Park\, 101 W A St\, Rainier\, OR\, United States
CATEGORIES:Community Events
GEO:46.089908;-122.935658
X-APPLE-STRUCTURED-LOCATION;VALUE=URI;X-ADDRESS=Rainier City Park 101 W A St Rainier OR United States;X-APPLE-RADIUS=500;X-TITLE=101 W A St:geo:-122.935658,46.089908
END:VEVENT
END:VCALENDAR