BEGIN:VCALENDAR
VERSION:2.0
PRODID:-//KUKN 105.5 Cookin&#039; Country - ECPv6.15.20//NONSGML v1.0//EN
CALSCALE:GREGORIAN
METHOD:PUBLISH
X-WR-CALNAME:KUKN 105.5 Cookin&#039; Country
X-ORIGINAL-URL:https://www.kuknradio.com
X-WR-CALDESC:Events for KUKN 105.5 Cookin&#039; Country
REFRESH-INTERVAL;VALUE=DURATION:PT1H
X-Robots-Tag:noindex
X-PUBLISHED-TTL:PT1H
BEGIN:VTIMEZONE
TZID:America/Los_Angeles
BEGIN:DAYLIGHT
TZOFFSETFROM:-0800
TZOFFSETTO:-0700
TZNAME:PDT
DTSTART:20230312T100000
END:DAYLIGHT
BEGIN:STANDARD
TZOFFSETFROM:-0700
TZOFFSETTO:-0800
TZNAME:PST
DTSTART:20231105T090000
END:STANDARD
BEGIN:DAYLIGHT
TZOFFSETFROM:-0800
TZOFFSETTO:-0700
TZNAME:PDT
DTSTART:20240310T100000
END:DAYLIGHT
BEGIN:STANDARD
TZOFFSETFROM:-0700
TZOFFSETTO:-0800
TZNAME:PST
DTSTART:20241103T090000
END:STANDARD
BEGIN:DAYLIGHT
TZOFFSETFROM:-0800
TZOFFSETTO:-0700
TZNAME:PDT
DTSTART:20250309T100000
END:DAYLIGHT
BEGIN:STANDARD
TZOFFSETFROM:-0700
TZOFFSETTO:-0800
TZNAME:PST
DTSTART:20251102T090000
END:STANDARD
BEGIN:DAYLIGHT
TZOFFSETFROM:-0800
TZOFFSETTO:-0700
TZNAME:PDT
DTSTART:20260308T100000
END:DAYLIGHT
BEGIN:STANDARD
TZOFFSETFROM:-0700
TZOFFSETTO:-0800
TZNAME:PST
DTSTART:20261101T090000
END:STANDARD
END:VTIMEZONE
BEGIN:VEVENT
DTSTART;TZID=America/Los_Angeles:20250809T120000
DTEND;TZID=America/Los_Angeles:20250809T180000
DTSTAMP:20260425T203839
CREATED:20250724T200551Z
LAST-MODIFIED:20250724T200551Z
UID:10001886-1754740800-1754762400@www.kuknradio.com
SUMMARY:Jazz & Oysters with THE CHERRY POPPIN' DADDIES
DESCRIPTION:Water Music Society brings us Jazz & Oysters: August 9th from noon-6pm at the Port of Peninsula. The Cherry Poppin’ Daddies\, Good Co.\, and the Ilwaco High School Jazz Band will be performing while you enjoy great food and beautiful views! \nEvent is family-friendly. Doors at 11:30am. Bring chairs/ blankets. For more: watermusicsociety.com/jazz-and-oysters/
URL:https://www.kuknradio.com/event/jazz-oysters-with-the-cherry-poppin-daddies/
LOCATION:Port of Peninsula\, 3311 275th St\, Ocean Park\, WA\, United States
CATEGORIES:Community Events
GEO:46.501061;-124.031983
X-APPLE-STRUCTURED-LOCATION;VALUE=URI;X-ADDRESS=Port of Peninsula 3311 275th St Ocean Park WA United States;X-APPLE-RADIUS=500;X-TITLE=3311 275th St:geo:-124.031983,46.501061
END:VEVENT
BEGIN:VEVENT
DTSTART;TZID=America/Los_Angeles:20240817T110000
DTEND;TZID=America/Los_Angeles:20240817T213000
DTSTAMP:20260425T203839
CREATED:20240813T211050Z
LAST-MODIFIED:20241216T203540Z
UID:10000012-1723892400-1723930200@www.kuknradio.com
SUMMARY:Peninsula Blues Festival
DESCRIPTION:Nominated for the “Best NW Event” by the Cascade Blues Association\, the Peninsula Blues Festival is back; bringing PNW-based and international blues talent to the Port of Peninsula on Willapa Bay\, August 16-17. Enjoy food and drinks while you hear 8 different blues bands\, live. And bring two or three non-perishable food items if you can\, for the R&B Food Drive.Get more at peninsulabluesfest.org/
URL:https://www.kuknradio.com/event/peninsula-blues-festival-2/
LOCATION:Port of Peninsula\, 3311 275th St\, Ocean Park\, WA\, United States
CATEGORIES:Community Events
GEO:46.501061;-124.031983
X-APPLE-STRUCTURED-LOCATION;VALUE=URI;X-ADDRESS=Port of Peninsula 3311 275th St Ocean Park WA United States;X-APPLE-RADIUS=500;X-TITLE=3311 275th St:geo:-124.031983,46.501061
END:VEVENT
BEGIN:VEVENT
DTSTART;TZID=America/Los_Angeles:20240816T150000
DTEND;TZID=America/Los_Angeles:20240816T213000
DTSTAMP:20260425T203839
CREATED:20240813T211050Z
LAST-MODIFIED:20241216T203541Z
UID:10000007-1723820400-1723843800@www.kuknradio.com
SUMMARY:Peninsula Blues Festival
DESCRIPTION:Nominated for the “Best NW Event” by the Cascade Blues Association\, the Peninsula Blues Festival is back; bringing PNW-based and international blues talent to the Port of Peninsula on Willapa Bay\, August 16-17. Enjoy food and drinks while you hear 8 different blues bands\, live. And bring two or three non-perishable food items if you can\, for the R&B Food Drive.Get more at peninsulabluesfest.org/
URL:https://www.kuknradio.com/event/peninsula-blues-festival/
LOCATION:Port of Peninsula\, 3311 275th St\, Ocean Park\, WA\, United States
CATEGORIES:Community Events
GEO:46.501061;-124.031983
X-APPLE-STRUCTURED-LOCATION;VALUE=URI;X-ADDRESS=Port of Peninsula 3311 275th St Ocean Park WA United States;X-APPLE-RADIUS=500;X-TITLE=3311 275th St:geo:-124.031983,46.501061
END:VEVENT
END:VCALENDAR