BEGIN:VCALENDAR
VERSION:2.0
PRODID:-//KUKN 105.5 Cookin&#039; Country - ECPv6.15.20//NONSGML v1.0//EN
CALSCALE:GREGORIAN
METHOD:PUBLISH
X-ORIGINAL-URL:https://www.kuknradio.com
X-WR-CALDESC:Events for KUKN 105.5 Cookin&#039; Country
REFRESH-INTERVAL;VALUE=DURATION:PT1H
X-Robots-Tag:noindex
X-PUBLISHED-TTL:PT1H
BEGIN:VTIMEZONE
TZID:America/Los_Angeles
BEGIN:DAYLIGHT
TZOFFSETFROM:-0800
TZOFFSETTO:-0700
TZNAME:PDT
DTSTART:20240310T100000
END:DAYLIGHT
BEGIN:STANDARD
TZOFFSETFROM:-0700
TZOFFSETTO:-0800
TZNAME:PST
DTSTART:20241103T090000
END:STANDARD
BEGIN:DAYLIGHT
TZOFFSETFROM:-0800
TZOFFSETTO:-0700
TZNAME:PDT
DTSTART:20250309T100000
END:DAYLIGHT
BEGIN:STANDARD
TZOFFSETFROM:-0700
TZOFFSETTO:-0800
TZNAME:PST
DTSTART:20251102T090000
END:STANDARD
BEGIN:DAYLIGHT
TZOFFSETFROM:-0800
TZOFFSETTO:-0700
TZNAME:PDT
DTSTART:20260308T100000
END:DAYLIGHT
BEGIN:STANDARD
TZOFFSETFROM:-0700
TZOFFSETTO:-0800
TZNAME:PST
DTSTART:20261101T090000
END:STANDARD
END:VTIMEZONE
BEGIN:VEVENT
DTSTART;TZID=America/Los_Angeles:20250615T100000
DTEND;TZID=America/Los_Angeles:20250615T190000
DTSTAMP:20260425T190558
CREATED:20250608T202115Z
LAST-MODIFIED:20250608T202115Z
UID:10001668-1749981600-1750014000@www.kuknradio.com
SUMMARY:Historic U.S. Coast Guard Cutter Eagle Tour
DESCRIPTION:The U.S. Coast Guard Cutter Eagle is making a rare visit to Astoria! The ship will be moored on Pier 1\, Portway Street in Uniontown. Come take a tour of this historic vessel for FREE: June 13th\, 1pm-7pm June 14th\, 10am-7pm June 15th\, 10am-7pm.  \n Learn more: uscga.edu/mission/eagle
URL:https://www.kuknradio.com/event/historic-u-s-coast-guard-cutter-eagle-tour-2/
LOCATION:Pier 1 Astoria Oregon\, 108 Portway St\, Astoria\, OR\, United States
CATEGORIES:Community Events
GEO:46.188242;-123.856775
X-APPLE-STRUCTURED-LOCATION;VALUE=URI;X-ADDRESS=Pier 1 Astoria Oregon 108 Portway St Astoria OR United States;X-APPLE-RADIUS=500;X-TITLE=108 Portway St:geo:-123.856775,46.188242
END:VEVENT
BEGIN:VEVENT
DTSTART;TZID=America/Los_Angeles:20250614T100000
DTEND;TZID=America/Los_Angeles:20250614T190000
DTSTAMP:20260425T190558
CREATED:20250608T202115Z
LAST-MODIFIED:20250608T202115Z
UID:10001667-1749895200-1749927600@www.kuknradio.com
SUMMARY:Historic U.S. Coast Guard Cutter Eagle Tour
DESCRIPTION:The U.S. Coast Guard Cutter Eagle is making a rare visit to Astoria! The ship will be moored on Pier 1\, Portway Street in Uniontown. Come take a tour of this historic vessel for FREE:\nJune 13th\, 1pm-7pm\nJune 14th\, 10am-7pm\nJune 15th\, 10am-7pm.\nLearn more: uscga.edu/mission/eagle
URL:https://www.kuknradio.com/event/historic-u-s-coast-guard-cutter-eagle-tour/
LOCATION:Pier 1 Astoria Oregon\, 108 Portway St\, Astoria\, OR\, United States
CATEGORIES:Community Events
GEO:46.188242;-123.856775
X-APPLE-STRUCTURED-LOCATION;VALUE=URI;X-ADDRESS=Pier 1 Astoria Oregon 108 Portway St Astoria OR United States;X-APPLE-RADIUS=500;X-TITLE=108 Portway St:geo:-123.856775,46.188242
END:VEVENT
BEGIN:VEVENT
DTSTART;TZID=America/Los_Angeles:20250613T130000
DTEND;TZID=America/Los_Angeles:20250613T190000
DTSTAMP:20260425T190558
CREATED:20250608T202115Z
LAST-MODIFIED:20250608T202115Z
UID:10001666-1749819600-1749841200@www.kuknradio.com
SUMMARY:Historic U.S. Coast Guard Cutter Eagle Tours
DESCRIPTION:The U.S. Coast Guard Cutter Eagle is making a rare visit to Astoria! The ship will be moored on Pier 1\, Portway Street in Uniontown. Come take a tour of this historic vessel for FREE:\nJune 13th\, 1pm-7pm\nJune 14th\, 10am-7pm\nJune 15th\, 10am-7pm.\nLearn more: uscga.edu/mission/eagle
URL:https://www.kuknradio.com/event/historic-u-s-coast-guard-cutter-eagle-tours/
LOCATION:Pier 1 Astoria Oregon\, 108 Portway St\, Astoria\, OR\, United States
CATEGORIES:Community Events
GEO:46.188242;-123.856775
X-APPLE-STRUCTURED-LOCATION;VALUE=URI;X-ADDRESS=Pier 1 Astoria Oregon 108 Portway St Astoria OR United States;X-APPLE-RADIUS=500;X-TITLE=108 Portway St:geo:-123.856775,46.188242
END:VEVENT
END:VCALENDAR