BEGIN:VCALENDAR
VERSION:2.0
PRODID:-//KUKN 105.5 Cookin&#039; Country - ECPv6.15.20//NONSGML v1.0//EN
CALSCALE:GREGORIAN
METHOD:PUBLISH
X-WR-CALNAME:KUKN 105.5 Cookin&#039; Country
X-ORIGINAL-URL:https://www.kuknradio.com
X-WR-CALDESC:Events for KUKN 105.5 Cookin&#039; Country
REFRESH-INTERVAL;VALUE=DURATION:PT1H
X-Robots-Tag:noindex
X-PUBLISHED-TTL:PT1H
BEGIN:VTIMEZONE
TZID:America/Los_Angeles
BEGIN:DAYLIGHT
TZOFFSETFROM:-0800
TZOFFSETTO:-0700
TZNAME:PDT
DTSTART:20240310T100000
END:DAYLIGHT
BEGIN:STANDARD
TZOFFSETFROM:-0700
TZOFFSETTO:-0800
TZNAME:PST
DTSTART:20241103T090000
END:STANDARD
BEGIN:DAYLIGHT
TZOFFSETFROM:-0800
TZOFFSETTO:-0700
TZNAME:PDT
DTSTART:20250309T100000
END:DAYLIGHT
BEGIN:STANDARD
TZOFFSETFROM:-0700
TZOFFSETTO:-0800
TZNAME:PST
DTSTART:20251102T090000
END:STANDARD
BEGIN:DAYLIGHT
TZOFFSETFROM:-0800
TZOFFSETTO:-0700
TZNAME:PDT
DTSTART:20260308T100000
END:DAYLIGHT
BEGIN:STANDARD
TZOFFSETFROM:-0700
TZOFFSETTO:-0800
TZNAME:PST
DTSTART:20261101T090000
END:STANDARD
END:VTIMEZONE
BEGIN:VEVENT
DTSTART;TZID=America/Los_Angeles:20250118T120000
DTEND;TZID=America/Los_Angeles:20250118T140000
DTSTAMP:20260425T205850
CREATED:20250114T013125Z
LAST-MODIFIED:20250114T013125Z
UID:10001431-1737201600-1737208800@www.kuknradio.com
SUMMARY:Women's Day March
DESCRIPTION:Come to the Peninsula Art Center in Long Beach on January 18th at noon for a Women’s Day March! There will be speakers\, live music\, then at 1:15pm a march from the center to Bolstad and back.This is a chance to be and feel empowered\, meet friends\, and learn more about women and LGBTQ+ issues and resources.
URL:https://www.kuknradio.com/event/womens-day-march/
LOCATION:Peninsula Arts Center\, 504 Pacific Ave N\, Long Beach\, WA\, United States
CATEGORIES:Community Events
GEO:46.354203;-124.054396
X-APPLE-STRUCTURED-LOCATION;VALUE=URI;X-ADDRESS=Peninsula Arts Center 504 Pacific Ave N Long Beach WA United States;X-APPLE-RADIUS=500;X-TITLE=504 Pacific Ave N:geo:-124.054396,46.354203
END:VEVENT
END:VCALENDAR