BEGIN:VCALENDAR
VERSION:2.0
PRODID:-//KUKN 105.5 Cookin&#039; Country - ECPv6.15.20//NONSGML v1.0//EN
CALSCALE:GREGORIAN
METHOD:PUBLISH
X-ORIGINAL-URL:https://www.kuknradio.com
X-WR-CALDESC:Events for KUKN 105.5 Cookin&#039; Country
REFRESH-INTERVAL;VALUE=DURATION:PT1H
X-Robots-Tag:noindex
X-PUBLISHED-TTL:PT1H
BEGIN:VTIMEZONE
TZID:America/Los_Angeles
BEGIN:DAYLIGHT
TZOFFSETFROM:-0800
TZOFFSETTO:-0700
TZNAME:PDT
DTSTART:20240310T100000
END:DAYLIGHT
BEGIN:STANDARD
TZOFFSETFROM:-0700
TZOFFSETTO:-0800
TZNAME:PST
DTSTART:20241103T090000
END:STANDARD
BEGIN:DAYLIGHT
TZOFFSETFROM:-0800
TZOFFSETTO:-0700
TZNAME:PDT
DTSTART:20250309T100000
END:DAYLIGHT
BEGIN:STANDARD
TZOFFSETFROM:-0700
TZOFFSETTO:-0800
TZNAME:PST
DTSTART:20251102T090000
END:STANDARD
BEGIN:DAYLIGHT
TZOFFSETFROM:-0800
TZOFFSETTO:-0700
TZNAME:PDT
DTSTART:20260308T100000
END:DAYLIGHT
BEGIN:STANDARD
TZOFFSETFROM:-0700
TZOFFSETTO:-0800
TZNAME:PST
DTSTART:20261101T090000
END:STANDARD
BEGIN:DAYLIGHT
TZOFFSETFROM:-0800
TZOFFSETTO:-0700
TZNAME:PDT
DTSTART:20270314T100000
END:DAYLIGHT
BEGIN:STANDARD
TZOFFSETFROM:-0700
TZOFFSETTO:-0800
TZNAME:PST
DTSTART:20271107T090000
END:STANDARD
END:VTIMEZONE
BEGIN:VEVENT
DTSTART;TZID=America/Los_Angeles:20260317T183000
DTEND;TZID=America/Los_Angeles:20260317T210000
DTSTAMP:20260424T202126
CREATED:20260117T005231Z
LAST-MODIFIED:20260117T005231Z
UID:10002312-1773772200-1773781200@www.kuknradio.com
SUMMARY:Pinball League
DESCRIPTION:Every Tuesday\, Merry Time Bar and Grill hosts a Pinball League! Sign ups at 6:30pm\, tournament starts at 7pm. \nLearn more and check out more events at the Merry Time Bar and Grill at merrytimebar.com\, or find them on Facebook!
URL:https://www.kuknradio.com/event/pinball-league-43/
LOCATION:Merry Time Bar and Grill\, 995 Marine Dr\, Astoria\, OR\, United States
CATEGORIES:Community Events
GEO:46.189666;-123.832936
X-APPLE-STRUCTURED-LOCATION;VALUE=URI;X-ADDRESS=Merry Time Bar and Grill 995 Marine Dr Astoria OR United States;X-APPLE-RADIUS=500;X-TITLE=995 Marine Dr:geo:-123.832936,46.189666
END:VEVENT
BEGIN:VEVENT
DTSTART;TZID=America/Los_Angeles:20260310T183000
DTEND;TZID=America/Los_Angeles:20260310T210000
DTSTAMP:20260424T202126
CREATED:20260110T000443Z
LAST-MODIFIED:20260110T000443Z
UID:10002305-1773167400-1773176400@www.kuknradio.com
SUMMARY:Pinball League
DESCRIPTION:Every Tuesday\, Merry Time Bar and Grill hosts a Pinball League! Sign ups at 6:30pm\, tournament starts at 7pm. \nLearn more and check out more events at the Merry Time Bar and Grill at merrytimebar.com\, or find them on Facebook!
URL:https://www.kuknradio.com/event/pinball-league-42/
LOCATION:Merry Time Bar and Grill\, 995 Marine Dr\, Astoria\, OR\, United States
CATEGORIES:Community Events
GEO:46.189666;-123.832936
X-APPLE-STRUCTURED-LOCATION;VALUE=URI;X-ADDRESS=Merry Time Bar and Grill 995 Marine Dr Astoria OR United States;X-APPLE-RADIUS=500;X-TITLE=995 Marine Dr:geo:-123.832936,46.189666
END:VEVENT
BEGIN:VEVENT
DTSTART;TZID=America/Los_Angeles:20260303T183000
DTEND;TZID=America/Los_Angeles:20260303T210000
DTSTAMP:20260424T202126
CREATED:20260103T004933Z
LAST-MODIFIED:20260103T004933Z
UID:10002277-1772562600-1772571600@www.kuknradio.com
SUMMARY:Pinball League
DESCRIPTION:Every Tuesday\, Merry Time Bar and Grill hosts a Pinball League! Sign ups at 6:30pm\, tournament starts at 7pm. \nLearn more and check out more events at the Merry Time Bar and Grill at merrytimebar.com\, or find them on Facebook!
URL:https://www.kuknradio.com/event/pinball-league-41/
LOCATION:Merry Time Bar and Grill\, 995 Marine Dr\, Astoria\, OR\, United States
CATEGORIES:Community Events
GEO:46.189666;-123.832936
X-APPLE-STRUCTURED-LOCATION;VALUE=URI;X-ADDRESS=Merry Time Bar and Grill 995 Marine Dr Astoria OR United States;X-APPLE-RADIUS=500;X-TITLE=995 Marine Dr:geo:-123.832936,46.189666
END:VEVENT
BEGIN:VEVENT
DTSTART;TZID=America/Los_Angeles:20260224T183000
DTEND;TZID=America/Los_Angeles:20260224T210000
DTSTAMP:20260424T202126
CREATED:20251227T000517Z
LAST-MODIFIED:20251227T000517Z
UID:10002270-1771957800-1771966800@www.kuknradio.com
SUMMARY:Pinball League
DESCRIPTION:Every Tuesday\, Merry Time Bar and Grill hosts a Pinball League! Sign ups at 6:30pm\, tournament starts at 7pm. \nLearn more and check out more events at the Merry Time Bar and Grill at merrytimebar.com\, or find them on Facebook!
URL:https://www.kuknradio.com/event/pinball-league-40/
LOCATION:Merry Time Bar and Grill\, 995 Marine Dr\, Astoria\, OR\, United States
CATEGORIES:Community Events
GEO:46.189666;-123.832936
X-APPLE-STRUCTURED-LOCATION;VALUE=URI;X-ADDRESS=Merry Time Bar and Grill 995 Marine Dr Astoria OR United States;X-APPLE-RADIUS=500;X-TITLE=995 Marine Dr:geo:-123.832936,46.189666
END:VEVENT
BEGIN:VEVENT
DTSTART;TZID=America/Los_Angeles:20260217T183000
DTEND;TZID=America/Los_Angeles:20260217T210000
DTSTAMP:20260424T202126
CREATED:20251220T005438Z
LAST-MODIFIED:20251220T005438Z
UID:10002262-1771353000-1771362000@www.kuknradio.com
SUMMARY:Pinball League
DESCRIPTION:Every Tuesday\, Merry Time Bar and Grill hosts a Pinball League! Sign ups at 6:30pm\, tournament starts at 7pm. \nLearn more and check out more events at the Merry Time Bar and Grill at merrytimebar.com\, or find them on Facebook!
URL:https://www.kuknradio.com/event/pinball-league-39/
LOCATION:Merry Time Bar and Grill\, 995 Marine Dr\, Astoria\, OR\, United States
CATEGORIES:Community Events
GEO:46.189666;-123.832936
X-APPLE-STRUCTURED-LOCATION;VALUE=URI;X-ADDRESS=Merry Time Bar and Grill 995 Marine Dr Astoria OR United States;X-APPLE-RADIUS=500;X-TITLE=995 Marine Dr:geo:-123.832936,46.189666
END:VEVENT
BEGIN:VEVENT
DTSTART;TZID=America/Los_Angeles:20260210T183000
DTEND;TZID=America/Los_Angeles:20260210T210000
DTSTAMP:20260424T202126
CREATED:20251219T031947Z
LAST-MODIFIED:20251219T031947Z
UID:10002255-1770748200-1770757200@www.kuknradio.com
SUMMARY:Pinball League
DESCRIPTION:Every Tuesday\, Merry Time Bar and Grill hosts a Pinball League! Sign ups at 6:30pm\, tournament starts at 7pm. \nLearn more and check out more events at the Merry Time Bar and Grill at merrytimebar.com\, or find them on Facebook!
URL:https://www.kuknradio.com/event/pinball-league-38/
LOCATION:Merry Time Bar and Grill\, 995 Marine Dr\, Astoria\, OR\, United States
CATEGORIES:Community Events
GEO:46.189666;-123.832936
X-APPLE-STRUCTURED-LOCATION;VALUE=URI;X-ADDRESS=Merry Time Bar and Grill 995 Marine Dr Astoria OR United States;X-APPLE-RADIUS=500;X-TITLE=995 Marine Dr:geo:-123.832936,46.189666
END:VEVENT
BEGIN:VEVENT
DTSTART;TZID=America/Los_Angeles:20260203T183000
DTEND;TZID=America/Los_Angeles:20260203T210000
DTSTAMP:20260424T202126
CREATED:20251206T002032Z
LAST-MODIFIED:20251206T002032Z
UID:10002219-1770143400-1770152400@www.kuknradio.com
SUMMARY:Pinball League
DESCRIPTION:Every Tuesday\, Merry Time Bar and Grill hosts a Pinball League! Sign ups at 6:30pm\, tournament starts at 7pm. \nLearn more and check out more events at the Merry Time Bar and Grill at merrytimebar.com\, or find them on Facebook!
URL:https://www.kuknradio.com/event/pinball-league-37/
LOCATION:Merry Time Bar and Grill\, 995 Marine Dr\, Astoria\, OR\, United States
CATEGORIES:Community Events
GEO:46.189666;-123.832936
X-APPLE-STRUCTURED-LOCATION;VALUE=URI;X-ADDRESS=Merry Time Bar and Grill 995 Marine Dr Astoria OR United States;X-APPLE-RADIUS=500;X-TITLE=995 Marine Dr:geo:-123.832936,46.189666
END:VEVENT
BEGIN:VEVENT
DTSTART;TZID=America/Los_Angeles:20260127T183000
DTEND;TZID=America/Los_Angeles:20260127T210000
DTSTAMP:20260424T202126
CREATED:20251129T002150Z
LAST-MODIFIED:20251129T002150Z
UID:10002209-1769538600-1769547600@www.kuknradio.com
SUMMARY:Pinball League
DESCRIPTION:Every Tuesday\, Merry Time Bar and Grill hosts a Pinball League! Sign ups at 6:30pm\, tournament starts at 7pm. \nLearn more and check out more events at the Merry Time Bar and Grill at merrytimebar.com\, or find them on Facebook!
URL:https://www.kuknradio.com/event/pinball-league-36/
LOCATION:Merry Time Bar and Grill\, 995 Marine Dr\, Astoria\, OR\, United States
CATEGORIES:Community Events
GEO:46.189666;-123.832936
X-APPLE-STRUCTURED-LOCATION;VALUE=URI;X-ADDRESS=Merry Time Bar and Grill 995 Marine Dr Astoria OR United States;X-APPLE-RADIUS=500;X-TITLE=995 Marine Dr:geo:-123.832936,46.189666
END:VEVENT
BEGIN:VEVENT
DTSTART;TZID=America/Los_Angeles:20260120T183000
DTEND;TZID=America/Los_Angeles:20260120T210000
DTSTAMP:20260424T202126
CREATED:20251122T000510Z
LAST-MODIFIED:20251122T000510Z
UID:10002203-1768933800-1768942800@www.kuknradio.com
SUMMARY:Pinball League
DESCRIPTION:Every Tuesday\, Merry Time Bar and Grill hosts a Pinball League! Sign ups at 6:30pm\, tournament starts at 7pm. \nLearn more and check out more events at the Merry Time Bar and Grill at merrytimebar.com\, or find them on Facebook!
URL:https://www.kuknradio.com/event/pinball-league-35/
LOCATION:Merry Time Bar and Grill\, 995 Marine Dr\, Astoria\, OR\, United States
CATEGORIES:Community Events
GEO:46.189666;-123.832936
X-APPLE-STRUCTURED-LOCATION;VALUE=URI;X-ADDRESS=Merry Time Bar and Grill 995 Marine Dr Astoria OR United States;X-APPLE-RADIUS=500;X-TITLE=995 Marine Dr:geo:-123.832936,46.189666
END:VEVENT
BEGIN:VEVENT
DTSTART;TZID=America/Los_Angeles:20260113T183000
DTEND;TZID=America/Los_Angeles:20260113T210000
DTSTAMP:20260424T202126
CREATED:20251115T004935Z
LAST-MODIFIED:20251115T004935Z
UID:10002186-1768329000-1768338000@www.kuknradio.com
SUMMARY:Pinball League
DESCRIPTION:Every Tuesday\, Merry Time Bar and Grill hosts a Pinball League! Sign ups at 6:30pm\, tournament starts at 7pm. \nLearn more and check out more events at the Merry Time Bar and Grill at merrytimebar.com\, or find them on Facebook!
URL:https://www.kuknradio.com/event/pinball-league-34/
LOCATION:Merry Time Bar and Grill\, 995 Marine Dr\, Astoria\, OR\, United States
CATEGORIES:Community Events
GEO:46.189666;-123.832936
X-APPLE-STRUCTURED-LOCATION;VALUE=URI;X-ADDRESS=Merry Time Bar and Grill 995 Marine Dr Astoria OR United States;X-APPLE-RADIUS=500;X-TITLE=995 Marine Dr:geo:-123.832936,46.189666
END:VEVENT
BEGIN:VEVENT
DTSTART;TZID=America/Los_Angeles:20260106T183000
DTEND;TZID=America/Los_Angeles:20260106T210000
DTSTAMP:20260424T202126
CREATED:20251113T050452Z
LAST-MODIFIED:20251113T050452Z
UID:10002177-1767724200-1767733200@www.kuknradio.com
SUMMARY:Pinball League
DESCRIPTION:Every Tuesday\, Merry Time Bar and Grill hosts a Pinball League! Sign ups at 6:30pm\, tournament starts at 7pm. \nLearn more and check out more events at the Merry Time Bar and Grill at merrytimebar.com\, or find them on Facebook!
URL:https://www.kuknradio.com/event/pinball-league-33/
LOCATION:Merry Time Bar and Grill\, 995 Marine Dr\, Astoria\, OR\, United States
CATEGORIES:Community Events
GEO:46.189666;-123.832936
X-APPLE-STRUCTURED-LOCATION;VALUE=URI;X-ADDRESS=Merry Time Bar and Grill 995 Marine Dr Astoria OR United States;X-APPLE-RADIUS=500;X-TITLE=995 Marine Dr:geo:-123.832936,46.189666
END:VEVENT
BEGIN:VEVENT
DTSTART;TZID=America/Los_Angeles:20251230T183000
DTEND;TZID=America/Los_Angeles:20251230T210000
DTSTAMP:20260424T202126
CREATED:20251101T001948Z
LAST-MODIFIED:20251101T001948Z
UID:10002166-1767119400-1767128400@www.kuknradio.com
SUMMARY:Pinball League
DESCRIPTION:Every Tuesday\, Merry Time Bar and Grill hosts a Pinball League! Sign ups at 6:30pm\, tournament starts at 7pm. \nLearn more and check out more events at the Merry Time Bar and Grill at merrytimebar.com\, or find them on Facebook!
URL:https://www.kuknradio.com/event/pinball-league-32/
LOCATION:Merry Time Bar and Grill\, 995 Marine Dr\, Astoria\, OR\, United States
CATEGORIES:Community Events
GEO:46.189666;-123.832936
X-APPLE-STRUCTURED-LOCATION;VALUE=URI;X-ADDRESS=Merry Time Bar and Grill 995 Marine Dr Astoria OR United States;X-APPLE-RADIUS=500;X-TITLE=995 Marine Dr:geo:-123.832936,46.189666
END:VEVENT
BEGIN:VEVENT
DTSTART;TZID=America/Los_Angeles:20251223T183000
DTEND;TZID=America/Los_Angeles:20251223T210000
DTSTAMP:20260424T202126
CREATED:20251025T001954Z
LAST-MODIFIED:20251025T001954Z
UID:10002161-1766514600-1766523600@www.kuknradio.com
SUMMARY:Pinball League
DESCRIPTION:Every Tuesday\, Merry Time Bar and Grill hosts a Pinball League! Sign ups at 6:30pm\, tournament starts at 7pm. \nLearn more and check out more events at the Merry Time Bar and Grill at merrytimebar.com\, or find them on Facebook!
URL:https://www.kuknradio.com/event/pinball-league-31/
LOCATION:Merry Time Bar and Grill\, 995 Marine Dr\, Astoria\, OR\, United States
CATEGORIES:Community Events
GEO:46.189666;-123.832936
X-APPLE-STRUCTURED-LOCATION;VALUE=URI;X-ADDRESS=Merry Time Bar and Grill 995 Marine Dr Astoria OR United States;X-APPLE-RADIUS=500;X-TITLE=995 Marine Dr:geo:-123.832936,46.189666
END:VEVENT
BEGIN:VEVENT
DTSTART;TZID=America/Los_Angeles:20251216T183000
DTEND;TZID=America/Los_Angeles:20251216T210000
DTSTAMP:20260424T202126
CREATED:20251024T232007Z
LAST-MODIFIED:20251024T232007Z
UID:10002148-1765909800-1765918800@www.kuknradio.com
SUMMARY:Pinball League
DESCRIPTION:Every Tuesday\, Merry Time Bar and Grill hosts a Pinball League! Sign ups at 6:30pm\, tournament starts at 7pm. \nLearn more and check out more events at the Merry Time Bar and Grill at merrytimebar.com\, or find them on Facebook!
URL:https://www.kuknradio.com/event/pinball-league-30/
LOCATION:Merry Time Bar and Grill\, 995 Marine Dr\, Astoria\, OR\, United States
CATEGORIES:Community Events
GEO:46.189666;-123.832936
X-APPLE-STRUCTURED-LOCATION;VALUE=URI;X-ADDRESS=Merry Time Bar and Grill 995 Marine Dr Astoria OR United States;X-APPLE-RADIUS=500;X-TITLE=995 Marine Dr:geo:-123.832936,46.189666
END:VEVENT
BEGIN:VEVENT
DTSTART;TZID=America/Los_Angeles:20251209T183000
DTEND;TZID=America/Los_Angeles:20251209T210000
DTSTAMP:20260424T202126
CREATED:20251011T002111Z
LAST-MODIFIED:20251011T002111Z
UID:10002132-1765305000-1765314000@www.kuknradio.com
SUMMARY:Pinball League
DESCRIPTION:Every Tuesday\, Merry Time Bar and Grill hosts a Pinball League! Sign ups at 6:30pm\, tournament starts at 7pm. \nLearn more and check out more events at the Merry Time Bar and Grill at merrytimebar.com\, or find them on Facebook!
URL:https://www.kuknradio.com/event/pinball-league-29/
LOCATION:Merry Time Bar and Grill\, 995 Marine Dr\, Astoria\, OR\, United States
CATEGORIES:Community Events
GEO:46.189666;-123.832936
X-APPLE-STRUCTURED-LOCATION;VALUE=URI;X-ADDRESS=Merry Time Bar and Grill 995 Marine Dr Astoria OR United States;X-APPLE-RADIUS=500;X-TITLE=995 Marine Dr:geo:-123.832936,46.189666
END:VEVENT
BEGIN:VEVENT
DTSTART;TZID=America/Los_Angeles:20251202T183000
DTEND;TZID=America/Los_Angeles:20251202T210000
DTSTAMP:20260424T202126
CREATED:20251010T185005Z
LAST-MODIFIED:20251010T185005Z
UID:10002115-1764700200-1764709200@www.kuknradio.com
SUMMARY:Pinball League
DESCRIPTION:Every Tuesday\, Merry Time Bar and Grill hosts a Pinball League! Sign ups at 6:30pm\, tournament starts at 7pm. \nLearn more and check out more events at the Merry Time Bar and Grill at merrytimebar.com\, or find them on Facebook!
URL:https://www.kuknradio.com/event/pinball-league-28/
LOCATION:Merry Time Bar and Grill\, 995 Marine Dr\, Astoria\, OR\, United States
CATEGORIES:Community Events
GEO:46.189666;-123.832936
X-APPLE-STRUCTURED-LOCATION;VALUE=URI;X-ADDRESS=Merry Time Bar and Grill 995 Marine Dr Astoria OR United States;X-APPLE-RADIUS=500;X-TITLE=995 Marine Dr:geo:-123.832936,46.189666
END:VEVENT
BEGIN:VEVENT
DTSTART;TZID=America/Los_Angeles:20251125T183000
DTEND;TZID=America/Los_Angeles:20251125T210000
DTSTAMP:20260424T202126
CREATED:20250927T002009Z
LAST-MODIFIED:20250927T002009Z
UID:10002095-1764095400-1764104400@www.kuknradio.com
SUMMARY:Pinball League
DESCRIPTION:Every Tuesday\, Merry Time Bar and Grill hosts a Pinball League! Sign ups at 6:30pm\, tournament starts at 7pm. \nLearn more and check out more events at the Merry Time Bar and Grill at merrytimebar.com\, or find them on Facebook!
URL:https://www.kuknradio.com/event/pinball-league-27/
LOCATION:Merry Time Bar and Grill\, 995 Marine Dr\, Astoria\, OR\, United States
CATEGORIES:Community Events
GEO:46.189666;-123.832936
X-APPLE-STRUCTURED-LOCATION;VALUE=URI;X-ADDRESS=Merry Time Bar and Grill 995 Marine Dr Astoria OR United States;X-APPLE-RADIUS=500;X-TITLE=995 Marine Dr:geo:-123.832936,46.189666
END:VEVENT
BEGIN:VEVENT
DTSTART;TZID=America/Los_Angeles:20251118T183000
DTEND;TZID=America/Los_Angeles:20251118T210000
DTSTAMP:20260424T202126
CREATED:20250920T002128Z
LAST-MODIFIED:20250920T002128Z
UID:10002046-1763490600-1763499600@www.kuknradio.com
SUMMARY:Pinball League
DESCRIPTION:Every Tuesday\, Merry Time Bar and Grill hosts a Pinball League! Sign ups at 6:30pm\, tournament starts at 7pm. \nLearn more and check out more events at the Merry Time Bar and Grill at merrytimebar.com\, or find them on Facebook!
URL:https://www.kuknradio.com/event/pinball-league-26/
LOCATION:Merry Time Bar and Grill\, 995 Marine Dr\, Astoria\, OR\, United States
CATEGORIES:Community Events
GEO:46.189666;-123.832936
X-APPLE-STRUCTURED-LOCATION;VALUE=URI;X-ADDRESS=Merry Time Bar and Grill 995 Marine Dr Astoria OR United States;X-APPLE-RADIUS=500;X-TITLE=995 Marine Dr:geo:-123.832936,46.189666
END:VEVENT
BEGIN:VEVENT
DTSTART;TZID=America/Los_Angeles:20251111T183000
DTEND;TZID=America/Los_Angeles:20251111T210000
DTSTAMP:20260424T202126
CREATED:20250913T003704Z
LAST-MODIFIED:20250913T003704Z
UID:10002015-1762885800-1762894800@www.kuknradio.com
SUMMARY:Pinball League
DESCRIPTION:Every Tuesday\, Merry Time Bar and Grill hosts a Pinball League! Sign ups at 6:30pm\, tournament starts at 7pm. \nLearn more and check out more events at the Merry Time Bar and Grill at merrytimebar.com\, or find them on Facebook!
URL:https://www.kuknradio.com/event/pinball-league-25/
LOCATION:Merry Time Bar and Grill\, 995 Marine Dr\, Astoria\, OR\, United States
CATEGORIES:Community Events
GEO:46.189666;-123.832936
X-APPLE-STRUCTURED-LOCATION;VALUE=URI;X-ADDRESS=Merry Time Bar and Grill 995 Marine Dr Astoria OR United States;X-APPLE-RADIUS=500;X-TITLE=995 Marine Dr:geo:-123.832936,46.189666
END:VEVENT
BEGIN:VEVENT
DTSTART;TZID=America/Los_Angeles:20251104T183000
DTEND;TZID=America/Los_Angeles:20251104T210000
DTSTAMP:20260424T202126
CREATED:20250912T162013Z
LAST-MODIFIED:20250912T162013Z
UID:10002004-1762281000-1762290000@www.kuknradio.com
SUMMARY:Pinball League
DESCRIPTION:Every Tuesday\, Merry Time Bar and Grill hosts a Pinball League! Sign ups at 6:30pm\, tournament starts at 7pm. \nLearn more and check out more events at the Merry Time Bar and Grill at merrytimebar.com\, or find them on Facebook!
URL:https://www.kuknradio.com/event/pinball-league-24/
LOCATION:Merry Time Bar and Grill\, 995 Marine Dr\, Astoria\, OR\, United States
CATEGORIES:Community Events
GEO:46.189666;-123.832936
X-APPLE-STRUCTURED-LOCATION;VALUE=URI;X-ADDRESS=Merry Time Bar and Grill 995 Marine Dr Astoria OR United States;X-APPLE-RADIUS=500;X-TITLE=995 Marine Dr:geo:-123.832936,46.189666
END:VEVENT
BEGIN:VEVENT
DTSTART;TZID=America/Los_Angeles:20251028T183000
DTEND;TZID=America/Los_Angeles:20251028T210000
DTSTAMP:20260424T202126
CREATED:20250830T003459Z
LAST-MODIFIED:20250830T003459Z
UID:10001991-1761676200-1761685200@www.kuknradio.com
SUMMARY:Pinball League
DESCRIPTION:Every Tuesday\, Merry Time Bar and Grill hosts a Pinball League! Sign ups at 6:30pm\, tournament starts at 7pm. \nLearn more and check out more events at the Merry Time Bar and Grill at merrytimebar.com\, or find them on Facebook!
URL:https://www.kuknradio.com/event/pinball-league-23/
LOCATION:Merry Time Bar and Grill\, 995 Marine Dr\, Astoria\, OR\, United States
CATEGORIES:Community Events
GEO:46.189666;-123.832936
X-APPLE-STRUCTURED-LOCATION;VALUE=URI;X-ADDRESS=Merry Time Bar and Grill 995 Marine Dr Astoria OR United States;X-APPLE-RADIUS=500;X-TITLE=995 Marine Dr:geo:-123.832936,46.189666
END:VEVENT
BEGIN:VEVENT
DTSTART;TZID=America/Los_Angeles:20251021T183000
DTEND;TZID=America/Los_Angeles:20251021T210000
DTSTAMP:20260424T202126
CREATED:20250823T005012Z
LAST-MODIFIED:20250823T005012Z
UID:10001982-1761071400-1761080400@www.kuknradio.com
SUMMARY:Pinball League
DESCRIPTION:Every Tuesday\, Merry Time Bar and Grill hosts a Pinball League! Sign ups at 6:30pm\, tournament starts at 7pm. \nLearn more and check out more events at the Merry Time Bar and Grill at merrytimebar.com\, or find them on Facebook!
URL:https://www.kuknradio.com/event/pinball-league-22/
LOCATION:Merry Time Bar and Grill\, 995 Marine Dr\, Astoria\, OR\, United States
CATEGORIES:Community Events
GEO:46.189666;-123.832936
X-APPLE-STRUCTURED-LOCATION;VALUE=URI;X-ADDRESS=Merry Time Bar and Grill 995 Marine Dr Astoria OR United States;X-APPLE-RADIUS=500;X-TITLE=995 Marine Dr:geo:-123.832936,46.189666
END:VEVENT
BEGIN:VEVENT
DTSTART;TZID=America/Los_Angeles:20251014T183000
DTEND;TZID=America/Los_Angeles:20251014T210000
DTSTAMP:20260424T202126
CREATED:20250816T000617Z
LAST-MODIFIED:20250816T000617Z
UID:10001972-1760466600-1760475600@www.kuknradio.com
SUMMARY:Pinball League
DESCRIPTION:Every Tuesday\, Merry Time Bar and Grill hosts a Pinball League! Sign ups at 6:30pm\, tournament starts at 7pm. \nLearn more and check out more events at the Merry Time Bar and Grill at merrytimebar.com\, or find them on Facebook!
URL:https://www.kuknradio.com/event/pinball-league-21/
LOCATION:Merry Time Bar and Grill\, 995 Marine Dr\, Astoria\, OR\, United States
CATEGORIES:Community Events
GEO:46.189666;-123.832936
X-APPLE-STRUCTURED-LOCATION;VALUE=URI;X-ADDRESS=Merry Time Bar and Grill 995 Marine Dr Astoria OR United States;X-APPLE-RADIUS=500;X-TITLE=995 Marine Dr:geo:-123.832936,46.189666
END:VEVENT
BEGIN:VEVENT
DTSTART;TZID=America/Los_Angeles:20251007T183000
DTEND;TZID=America/Los_Angeles:20251007T210000
DTSTAMP:20260424T202126
CREATED:20250814T005035Z
LAST-MODIFIED:20250814T005035Z
UID:10001950-1759861800-1759870800@www.kuknradio.com
SUMMARY:Pinball League
DESCRIPTION:Every Tuesday\, Merry Time Bar and Grill hosts a Pinball League! Sign ups at 6:30pm\, tournament starts at 7pm. \nLearn more and check out more events at the Merry Time Bar and Grill at merrytimebar.com\, or find them on Facebook!
URL:https://www.kuknradio.com/event/pinball-league-20/
LOCATION:Merry Time Bar and Grill\, 995 Marine Dr\, Astoria\, OR\, United States
CATEGORIES:Community Events
GEO:46.189666;-123.832936
X-APPLE-STRUCTURED-LOCATION;VALUE=URI;X-ADDRESS=Merry Time Bar and Grill 995 Marine Dr Astoria OR United States;X-APPLE-RADIUS=500;X-TITLE=995 Marine Dr:geo:-123.832936,46.189666
END:VEVENT
BEGIN:VEVENT
DTSTART;TZID=America/Los_Angeles:20250930T183000
DTEND;TZID=America/Los_Angeles:20250930T210000
DTSTAMP:20260424T202126
CREATED:20250802T001946Z
LAST-MODIFIED:20250802T001946Z
UID:10001907-1759257000-1759266000@www.kuknradio.com
SUMMARY:Pinball League
DESCRIPTION:Every Tuesday\, Merry Time Bar and Grill hosts a Pinball League! Sign ups at 6:30pm\, tournament starts at 7pm. \nLearn more and check out more events at the Merry Time Bar and Grill at merrytimebar.com\, or find them on Facebook!
URL:https://www.kuknradio.com/event/pinball-league-19/
LOCATION:Merry Time Bar and Grill\, 995 Marine Dr\, Astoria\, OR\, United States
CATEGORIES:Community Events
GEO:46.189666;-123.832936
X-APPLE-STRUCTURED-LOCATION;VALUE=URI;X-ADDRESS=Merry Time Bar and Grill 995 Marine Dr Astoria OR United States;X-APPLE-RADIUS=500;X-TITLE=995 Marine Dr:geo:-123.832936,46.189666
END:VEVENT
BEGIN:VEVENT
DTSTART;TZID=America/Los_Angeles:20250923T183000
DTEND;TZID=America/Los_Angeles:20250923T210000
DTSTAMP:20260424T202126
CREATED:20250726T000503Z
LAST-MODIFIED:20250726T000503Z
UID:10001894-1758652200-1758661200@www.kuknradio.com
SUMMARY:Pinball League
DESCRIPTION:Every Tuesday\, Merry Time Bar and Grill hosts a Pinball League! Sign ups at 6:30pm\, tournament starts at 7pm. \nLearn more and check out more events at the Merry Time Bar and Grill at merrytimebar.com\, or find them on Facebook!
URL:https://www.kuknradio.com/event/pinball-league-18/
LOCATION:Merry Time Bar and Grill\, 995 Marine Dr\, Astoria\, OR\, United States
CATEGORIES:Community Events
GEO:46.189666;-123.832936
X-APPLE-STRUCTURED-LOCATION;VALUE=URI;X-ADDRESS=Merry Time Bar and Grill 995 Marine Dr Astoria OR United States;X-APPLE-RADIUS=500;X-TITLE=995 Marine Dr:geo:-123.832936,46.189666
END:VEVENT
BEGIN:VEVENT
DTSTART;TZID=America/Los_Angeles:20250916T183000
DTEND;TZID=America/Los_Angeles:20250916T210000
DTSTAMP:20260424T202126
CREATED:20250719T002111Z
LAST-MODIFIED:20250719T002111Z
UID:10001809-1758047400-1758056400@www.kuknradio.com
SUMMARY:Pinball League
DESCRIPTION:Every Tuesday\, Merry Time Bar and Grill hosts a Pinball League! Sign ups at 6:30pm\, tournament starts at 7pm. \nLearn more and check out more events at the Merry Time Bar and Grill at merrytimebar.com\, or find them on Facebook!
URL:https://www.kuknradio.com/event/pinball-league-17/
LOCATION:Merry Time Bar and Grill\, 995 Marine Dr\, Astoria\, OR\, United States
CATEGORIES:Community Events
GEO:46.189666;-123.832936
X-APPLE-STRUCTURED-LOCATION;VALUE=URI;X-ADDRESS=Merry Time Bar and Grill 995 Marine Dr Astoria OR United States;X-APPLE-RADIUS=500;X-TITLE=995 Marine Dr:geo:-123.832936,46.189666
END:VEVENT
BEGIN:VEVENT
DTSTART;TZID=America/Los_Angeles:20250909T183000
DTEND;TZID=America/Los_Angeles:20250909T210000
DTSTAMP:20260424T202126
CREATED:20250718T171957Z
LAST-MODIFIED:20250718T171957Z
UID:10001800-1757442600-1757451600@www.kuknradio.com
SUMMARY:Pinball League
DESCRIPTION:Every Tuesday\, Merry Time Bar and Grill hosts a Pinball League! Sign ups at 6:30pm\, tournament starts at 7pm. \nLearn more and check out more events at the Merry Time Bar and Grill at merrytimebar.com\, or find them on Facebook!
URL:https://www.kuknradio.com/event/pinball-league-16/
LOCATION:Merry Time Bar and Grill\, 995 Marine Dr\, Astoria\, OR\, United States
CATEGORIES:Community Events
GEO:46.189666;-123.832936
X-APPLE-STRUCTURED-LOCATION;VALUE=URI;X-ADDRESS=Merry Time Bar and Grill 995 Marine Dr Astoria OR United States;X-APPLE-RADIUS=500;X-TITLE=995 Marine Dr:geo:-123.832936,46.189666
END:VEVENT
BEGIN:VEVENT
DTSTART;TZID=America/Los_Angeles:20250902T183000
DTEND;TZID=America/Los_Angeles:20250902T210000
DTSTAMP:20260424T202126
CREATED:20250711T123549Z
LAST-MODIFIED:20250711T123549Z
UID:10001787-1756837800-1756846800@www.kuknradio.com
SUMMARY:Pinball League
DESCRIPTION:Every Tuesday\, Merry Time Bar and Grill hosts a Pinball League! Sign ups at 6:30pm\, tournament starts at 7pm. \nLearn more and check out more events at the Merry Time Bar and Grill at merrytimebar.com\, or find them on Facebook!
URL:https://www.kuknradio.com/event/pinball-league-15/
LOCATION:Merry Time Bar and Grill\, 995 Marine Dr\, Astoria\, OR\, United States
CATEGORIES:Community Events
GEO:46.189666;-123.832936
X-APPLE-STRUCTURED-LOCATION;VALUE=URI;X-ADDRESS=Merry Time Bar and Grill 995 Marine Dr Astoria OR United States;X-APPLE-RADIUS=500;X-TITLE=995 Marine Dr:geo:-123.832936,46.189666
END:VEVENT
BEGIN:VEVENT
DTSTART;TZID=America/Los_Angeles:20250826T183000
DTEND;TZID=America/Los_Angeles:20250826T210000
DTSTAMP:20260424T202126
CREATED:20250703T194945Z
LAST-MODIFIED:20250703T194945Z
UID:10001776-1756233000-1756242000@www.kuknradio.com
SUMMARY:Pinball League
DESCRIPTION:Every Tuesday\, Merry Time Bar and Grill hosts a Pinball League! Sign ups at 6:30pm\, tournament starts at 7pm. \nLearn more and check out more events at the Merry Time Bar and Grill at merrytimebar.com\, or find them on Facebook!
URL:https://www.kuknradio.com/event/pinball-league-14/
LOCATION:Merry Time Bar and Grill\, 995 Marine Dr\, Astoria\, OR\, United States
CATEGORIES:Community Events
GEO:46.189666;-123.832936
X-APPLE-STRUCTURED-LOCATION;VALUE=URI;X-ADDRESS=Merry Time Bar and Grill 995 Marine Dr Astoria OR United States;X-APPLE-RADIUS=500;X-TITLE=995 Marine Dr:geo:-123.832936,46.189666
END:VEVENT
END:VCALENDAR