BEGIN:VCALENDAR
VERSION:2.0
PRODID:-//KUKN 105.5 Cookin&#039; Country - ECPv6.15.20//NONSGML v1.0//EN
CALSCALE:GREGORIAN
METHOD:PUBLISH
X-WR-CALNAME:KUKN 105.5 Cookin&#039; Country
X-ORIGINAL-URL:https://www.kuknradio.com
X-WR-CALDESC:Events for KUKN 105.5 Cookin&#039; Country
REFRESH-INTERVAL;VALUE=DURATION:PT1H
X-Robots-Tag:noindex
X-PUBLISHED-TTL:PT1H
BEGIN:VTIMEZONE
TZID:America/Los_Angeles
BEGIN:DAYLIGHT
TZOFFSETFROM:-0800
TZOFFSETTO:-0700
TZNAME:PDT
DTSTART:20240310T100000
END:DAYLIGHT
BEGIN:STANDARD
TZOFFSETFROM:-0700
TZOFFSETTO:-0800
TZNAME:PST
DTSTART:20241103T090000
END:STANDARD
BEGIN:DAYLIGHT
TZOFFSETFROM:-0800
TZOFFSETTO:-0700
TZNAME:PDT
DTSTART:20250309T100000
END:DAYLIGHT
BEGIN:STANDARD
TZOFFSETFROM:-0700
TZOFFSETTO:-0800
TZNAME:PST
DTSTART:20251102T090000
END:STANDARD
BEGIN:DAYLIGHT
TZOFFSETFROM:-0800
TZOFFSETTO:-0700
TZNAME:PDT
DTSTART:20260308T100000
END:DAYLIGHT
BEGIN:STANDARD
TZOFFSETFROM:-0700
TZOFFSETTO:-0800
TZNAME:PST
DTSTART:20261101T090000
END:STANDARD
END:VTIMEZONE
BEGIN:VEVENT
DTSTART;TZID=America/Los_Angeles:20251011T150000
DTEND;TZID=America/Los_Angeles:20251011T170000
DTSTAMP:20260425T043308
CREATED:20250916T205550Z
LAST-MODIFIED:20250916T205550Z
UID:10002023-1760194800-1760202000@www.kuknradio.com
SUMMARY:Scary Stories to Read in the Dark
DESCRIPTION:Renown Astoria Storytellers tell family-friendly ghost stories while you enjoy a free DIY costume station! \nOn October 11th\, it’s Scary Stories to Read in the Dark at Lucy’s Books from 3-5pm. A portion of all sales during the event will go to the reading program at Warrenton Elementary. \nFor more information: astoriadowntown.com/downtown-halloween/
URL:https://www.kuknradio.com/event/scary-stories-to-read-in-the-dark/
LOCATION:Lucy’s Books\, 951 Commercial St\, Astoria\, OR\, United States
CATEGORIES:Community Events
GEO:46.188983;-123.833372
X-APPLE-STRUCTURED-LOCATION;VALUE=URI;X-ADDRESS=Lucy’s Books 951 Commercial St Astoria OR United States;X-APPLE-RADIUS=500;X-TITLE=951 Commercial St:geo:-123.833372,46.188983
END:VEVENT
END:VCALENDAR