BEGIN:VCALENDAR
VERSION:2.0
PRODID:-//KUKN 105.5 Cookin&#039; Country - ECPv6.15.20//NONSGML v1.0//EN
CALSCALE:GREGORIAN
METHOD:PUBLISH
X-ORIGINAL-URL:https://www.kuknradio.com
X-WR-CALDESC:Events for KUKN 105.5 Cookin&#039; Country
REFRESH-INTERVAL;VALUE=DURATION:PT1H
X-Robots-Tag:noindex
X-PUBLISHED-TTL:PT1H
BEGIN:VTIMEZONE
TZID:America/Los_Angeles
BEGIN:DAYLIGHT
TZOFFSETFROM:-0800
TZOFFSETTO:-0700
TZNAME:PDT
DTSTART:20240310T100000
END:DAYLIGHT
BEGIN:STANDARD
TZOFFSETFROM:-0700
TZOFFSETTO:-0800
TZNAME:PST
DTSTART:20241103T090000
END:STANDARD
BEGIN:DAYLIGHT
TZOFFSETFROM:-0800
TZOFFSETTO:-0700
TZNAME:PDT
DTSTART:20250309T100000
END:DAYLIGHT
BEGIN:STANDARD
TZOFFSETFROM:-0700
TZOFFSETTO:-0800
TZNAME:PST
DTSTART:20251102T090000
END:STANDARD
BEGIN:DAYLIGHT
TZOFFSETFROM:-0800
TZOFFSETTO:-0700
TZNAME:PDT
DTSTART:20260308T100000
END:DAYLIGHT
BEGIN:STANDARD
TZOFFSETFROM:-0700
TZOFFSETTO:-0800
TZNAME:PST
DTSTART:20261101T090000
END:STANDARD
END:VTIMEZONE
BEGIN:VEVENT
DTSTART;TZID=America/Los_Angeles:20250809T120000
DTEND;TZID=America/Los_Angeles:20250809T160000
DTSTAMP:20260425T111834
CREATED:20250804T222012Z
LAST-MODIFIED:20250804T222012Z
UID:10001910-1754740800-1754755200@www.kuknradio.com
SUMMARY:The Firefighter Games
DESCRIPTION:The Firefighter Games are Saturday\, August 9th\, noon to 4 at the Long Beach Fire Station. Come enjoy burgers\, hotdogs and the Chief’s world famous chili (price by donation) while firefighters from 7 different departments compete against each other in waterball\, hose rolling\, sack races\, tower rides\, and a dunk tank. Some games are open for public participation too! \nDonations for the food bank will be taken\, and all money raised at the Firefighter games will benefit local volunteer fire departments AND victims of fires.
URL:https://www.kuknradio.com/event/the-firefighter-games/
LOCATION:Long Beach Fire Department\, 701 Washington Ave N\, Long Beach\, WA\, United States
CATEGORIES:Community Events
GEO:46.360887;-124.051902
X-APPLE-STRUCTURED-LOCATION;VALUE=URI;X-ADDRESS=Long Beach Fire Department 701 Washington Ave N Long Beach WA United States;X-APPLE-RADIUS=500;X-TITLE=701 Washington Ave N:geo:-124.051902,46.360887
END:VEVENT
END:VCALENDAR