BEGIN:VCALENDAR
VERSION:2.0
PRODID:-//KUKN 105.5 Cookin&#039; Country - ECPv6.15.20//NONSGML v1.0//EN
CALSCALE:GREGORIAN
METHOD:PUBLISH
X-WR-CALNAME:KUKN 105.5 Cookin&#039; Country
X-ORIGINAL-URL:https://www.kuknradio.com
X-WR-CALDESC:Events for KUKN 105.5 Cookin&#039; Country
REFRESH-INTERVAL;VALUE=DURATION:PT1H
X-Robots-Tag:noindex
X-PUBLISHED-TTL:PT1H
BEGIN:VTIMEZONE
TZID:America/Los_Angeles
BEGIN:DAYLIGHT
TZOFFSETFROM:-0800
TZOFFSETTO:-0700
TZNAME:PDT
DTSTART:20240310T100000
END:DAYLIGHT
BEGIN:STANDARD
TZOFFSETFROM:-0700
TZOFFSETTO:-0800
TZNAME:PST
DTSTART:20241103T090000
END:STANDARD
BEGIN:DAYLIGHT
TZOFFSETFROM:-0800
TZOFFSETTO:-0700
TZNAME:PDT
DTSTART:20250309T100000
END:DAYLIGHT
BEGIN:STANDARD
TZOFFSETFROM:-0700
TZOFFSETTO:-0800
TZNAME:PST
DTSTART:20251102T090000
END:STANDARD
BEGIN:DAYLIGHT
TZOFFSETFROM:-0800
TZOFFSETTO:-0700
TZNAME:PDT
DTSTART:20260308T100000
END:DAYLIGHT
BEGIN:STANDARD
TZOFFSETFROM:-0700
TZOFFSETTO:-0800
TZNAME:PST
DTSTART:20261101T090000
END:STANDARD
END:VTIMEZONE
BEGIN:VEVENT
DTSTART;TZID=America/Los_Angeles:20250815T130000
DTEND;TZID=America/Los_Angeles:20250815T150000
DTSTAMP:20260425T042938
CREATED:20250814T005031Z
LAST-MODIFIED:20250814T005031Z
UID:10001933-1755262800-1755270000@www.kuknradio.com
SUMMARY:Caregiver Fair
DESCRIPTION:Looking for a caregiver? Looking for work? Head to the Caregiver Fair at the Hope Center in Cathlamet: August 15th\, 1-3pm. \nFor more information: wahkiakum.us/event/caregiver-fair/
URL:https://www.kuknradio.com/event/caregiver-fair/
LOCATION:Hope Center\, 2 S 3rd St\, Cathlamet\, WA\, United States
CATEGORIES:Community Events
GEO:46.201881;-123.38242
X-APPLE-STRUCTURED-LOCATION;VALUE=URI;X-ADDRESS=Hope Center 2 S 3rd St Cathlamet WA United States;X-APPLE-RADIUS=500;X-TITLE=2 S 3rd St:geo:-123.38242,46.201881
END:VEVENT
END:VCALENDAR