BEGIN:VCALENDAR
VERSION:2.0
PRODID:-//KUKN 105.5 Cookin&#039; Country - ECPv6.15.20//NONSGML v1.0//EN
CALSCALE:GREGORIAN
METHOD:PUBLISH
X-ORIGINAL-URL:https://www.kuknradio.com
X-WR-CALDESC:Events for KUKN 105.5 Cookin&#039; Country
REFRESH-INTERVAL;VALUE=DURATION:PT1H
X-Robots-Tag:noindex
X-PUBLISHED-TTL:PT1H
BEGIN:VTIMEZONE
TZID:America/Los_Angeles
BEGIN:DAYLIGHT
TZOFFSETFROM:-0800
TZOFFSETTO:-0700
TZNAME:PDT
DTSTART:20240310T100000
END:DAYLIGHT
BEGIN:STANDARD
TZOFFSETFROM:-0700
TZOFFSETTO:-0800
TZNAME:PST
DTSTART:20241103T090000
END:STANDARD
BEGIN:DAYLIGHT
TZOFFSETFROM:-0800
TZOFFSETTO:-0700
TZNAME:PDT
DTSTART:20250309T100000
END:DAYLIGHT
BEGIN:STANDARD
TZOFFSETFROM:-0700
TZOFFSETTO:-0800
TZNAME:PST
DTSTART:20251102T090000
END:STANDARD
BEGIN:DAYLIGHT
TZOFFSETFROM:-0800
TZOFFSETTO:-0700
TZNAME:PDT
DTSTART:20260308T100000
END:DAYLIGHT
BEGIN:STANDARD
TZOFFSETFROM:-0700
TZOFFSETTO:-0800
TZNAME:PST
DTSTART:20261101T090000
END:STANDARD
END:VTIMEZONE
BEGIN:VEVENT
DTSTART;TZID=America/Los_Angeles:20250920T120000
DTEND;TZID=America/Los_Angeles:20250920T200000
DTSTAMP:20260425T055506
CREATED:20250722T000455Z
LAST-MODIFIED:20250722T000455Z
UID:10001827-1758369600-1758398400@www.kuknradio.com
SUMMARY:Fort Stevens Summer Music Series: Summer's End Music Festival
DESCRIPTION:The Fort Stevens Summer Music Series concludes with the Summer’s End Music Festival on September 20th from noon to 8pm. Come out for live music\, beer\, food and retail vendors!Keep up to date with this event at fortstevenssummersend.com \nThe Fort Stevens Summer Music Series offers free music the 3rd Saturday of each month (May-September) at Museum/ gift shop area of Fort Stevens State Park in Hammond.
URL:https://www.kuknradio.com/event/fort-stevens-summer-music-series-summers-end-music-festival/
LOCATION:Fort Stevens State Park\, 199 Peter Iredale Rd\, Hammond\, OR\, United States
CATEGORIES:Community Events
GEO:46.181399;-123.96296
X-APPLE-STRUCTURED-LOCATION;VALUE=URI;X-ADDRESS=Fort Stevens State Park 199 Peter Iredale Rd Hammond OR United States;X-APPLE-RADIUS=500;X-TITLE=199 Peter Iredale Rd:geo:-123.96296,46.181399
END:VEVENT
BEGIN:VEVENT
DTSTART;TZID=America/Los_Angeles:20250816T160000
DTEND;TZID=America/Los_Angeles:20250816T200000
DTSTAMP:20260425T055506
CREATED:20250619T172120Z
LAST-MODIFIED:20250619T172120Z
UID:10001735-1755360000-1755374400@www.kuknradio.com
SUMMARY:Fort Stevens Summer Music Series: Rock the Jetty
DESCRIPTION:The Fort Stevens Summer Music Series: Rock the Jetty on August 16th from 4-8pm. Pretty Penny does the ultimate tribute to Stone Temple Pilots in this FREE 90’s tribute show.\nThe Fort Stevens Summer Music Series offers free music the 3rd Saturday of each month (May-September) at Museum/ gift shop area of Fort Stevens State Park in Hammond.
URL:https://www.kuknradio.com/event/fort-stevens-summer-music-series-rock-the-jetty/
LOCATION:Fort Stevens State Park\, 199 Peter Iredale Rd\, Hammond\, OR\, United States
CATEGORIES:Community Events
GEO:46.181399;-123.96296
X-APPLE-STRUCTURED-LOCATION;VALUE=URI;X-ADDRESS=Fort Stevens State Park 199 Peter Iredale Rd Hammond OR United States;X-APPLE-RADIUS=500;X-TITLE=199 Peter Iredale Rd:geo:-123.96296,46.181399
END:VEVENT
BEGIN:VEVENT
DTSTART;TZID=America/Los_Angeles:20250719T160000
DTEND;TZID=America/Los_Angeles:20250719T200000
DTSTAMP:20260425T055506
CREATED:20250522T124954Z
LAST-MODIFIED:20250522T124954Z
UID:10001649-1752940800-1752955200@www.kuknradio.com
SUMMARY:Fort Stevens Summer Music Series: Clatsop Country Fest
DESCRIPTION:July 19th\, the Fort Stevens Summer Music Series is back with the Clatsop Country Fest! Jessie Leigh performs a free show 4-8pm.\nThe Fort Stevens Summer Music Series offers free music the 3rd Saturday of each month (May-September) at Museum/ gift shop area of Fort Stevens State Park in Hammond.
URL:https://www.kuknradio.com/event/fort-stevens-summer-music-series-clatsop-country-fest/
LOCATION:Fort Stevens State Park\, 199 Peter Iredale Rd\, Hammond\, OR\, United States
CATEGORIES:Community Events
GEO:46.181399;-123.96296
X-APPLE-STRUCTURED-LOCATION;VALUE=URI;X-ADDRESS=Fort Stevens State Park 199 Peter Iredale Rd Hammond OR United States;X-APPLE-RADIUS=500;X-TITLE=199 Peter Iredale Rd:geo:-123.96296,46.181399
END:VEVENT
BEGIN:VEVENT
DTSTART;TZID=America/Los_Angeles:20250412T100000
DTEND;TZID=America/Los_Angeles:20250412T140000
DTSTAMP:20260425T055506
CREATED:20250325T183151Z
LAST-MODIFIED:20250325T183151Z
UID:10001536-1744452000-1744466400@www.kuknradio.com
SUMMARY:Color the Coast for Autism! 5K Color Run
DESCRIPTION:Color the Coast for Autism! The 5K Color Run will be April 12th\, 10am-2pm at Ft. Stevens State Park.All to benefit the local nonprofit First Steps Center for Autism and Developmental Disabilities\, this event is free admission for all ages!Register and/or donate here: charity.pledgeit.org/coastwalk
URL:https://www.kuknradio.com/event/color-the-coast-for-autism-5k-color-run/
LOCATION:Fort Stevens State Park\, 199 Peter Iredale Rd\, Hammond\, OR\, United States
CATEGORIES:Community Events
GEO:46.181399;-123.96296
X-APPLE-STRUCTURED-LOCATION;VALUE=URI;X-ADDRESS=Fort Stevens State Park 199 Peter Iredale Rd Hammond OR United States;X-APPLE-RADIUS=500;X-TITLE=199 Peter Iredale Rd:geo:-123.96296,46.181399
END:VEVENT
END:VCALENDAR