BEGIN:VCALENDAR
VERSION:2.0
PRODID:-//KUKN 105.5 Cookin&#039; Country - ECPv6.15.20//NONSGML v1.0//EN
CALSCALE:GREGORIAN
METHOD:PUBLISH
X-ORIGINAL-URL:https://www.kuknradio.com
X-WR-CALDESC:Events for KUKN 105.5 Cookin&#039; Country
REFRESH-INTERVAL;VALUE=DURATION:PT1H
X-Robots-Tag:noindex
X-PUBLISHED-TTL:PT1H
BEGIN:VTIMEZONE
TZID:America/Los_Angeles
BEGIN:DAYLIGHT
TZOFFSETFROM:-0800
TZOFFSETTO:-0700
TZNAME:PDT
DTSTART:20230312T100000
END:DAYLIGHT
BEGIN:STANDARD
TZOFFSETFROM:-0700
TZOFFSETTO:-0800
TZNAME:PST
DTSTART:20231105T090000
END:STANDARD
BEGIN:DAYLIGHT
TZOFFSETFROM:-0800
TZOFFSETTO:-0700
TZNAME:PDT
DTSTART:20240310T100000
END:DAYLIGHT
BEGIN:STANDARD
TZOFFSETFROM:-0700
TZOFFSETTO:-0800
TZNAME:PST
DTSTART:20241103T090000
END:STANDARD
BEGIN:DAYLIGHT
TZOFFSETFROM:-0800
TZOFFSETTO:-0700
TZNAME:PDT
DTSTART:20250309T100000
END:DAYLIGHT
BEGIN:STANDARD
TZOFFSETFROM:-0700
TZOFFSETTO:-0800
TZNAME:PST
DTSTART:20251102T090000
END:STANDARD
BEGIN:DAYLIGHT
TZOFFSETFROM:-0800
TZOFFSETTO:-0700
TZNAME:PDT
DTSTART:20260308T100000
END:DAYLIGHT
BEGIN:STANDARD
TZOFFSETFROM:-0700
TZOFFSETTO:-0800
TZNAME:PST
DTSTART:20261101T090000
END:STANDARD
END:VTIMEZONE
BEGIN:VEVENT
DTSTART;TZID=America/Los_Angeles:20250830T000000
DTEND;TZID=America/Los_Angeles:20250830T235959
DTSTAMP:20260425T090211
CREATED:20250814T005033Z
LAST-MODIFIED:20250814T005033Z
UID:10001945-1756512000-1756598399@www.kuknradio.com
SUMMARY:Hook the Hawg Salmon Derby
DESCRIPTION:Who can reel in the biggest catch? The Hook the Hawg Salmon Derby is back at the Elochoman Marina in Cathlamet: August 28-30. Participants could win cash prizes\, local goods\, and other prizes and experiences. \nFor more information and a link to register: wahkiakum.us/event/hook-the-hawg-ii/
URL:https://www.kuknradio.com/event/hook-the-hawg-salmon-derby-3/
LOCATION:Elochoman Slough Marina\, 500 2nd St\, Cathlamet\, WA\, United States
CATEGORIES:Community Events
GEO:46.199187;-123.380496
X-APPLE-STRUCTURED-LOCATION;VALUE=URI;X-ADDRESS=Elochoman Slough Marina 500 2nd St Cathlamet WA United States;X-APPLE-RADIUS=500;X-TITLE=500 2nd St:geo:-123.380496,46.199187
END:VEVENT
BEGIN:VEVENT
DTSTART;TZID=America/Los_Angeles:20250829T000000
DTEND;TZID=America/Los_Angeles:20250829T235959
DTSTAMP:20260425T090211
CREATED:20250814T005032Z
LAST-MODIFIED:20250814T005032Z
UID:10001943-1756425600-1756511999@www.kuknradio.com
SUMMARY:Hook the Hawg Salmon Derby
DESCRIPTION:Who can reel in the biggest catch? The Hook the Hawg Salmon Derby is back at the Elochoman Marina in Cathlamet: August 28-30. Participants could win cash prizes\, local goods\, and other prizes and experiences. \nFor more information and a link to register: wahkiakum.us/event/hook-the-hawg-ii/
URL:https://www.kuknradio.com/event/hook-the-hawg-salmon-derby-2/
LOCATION:Elochoman Slough Marina\, 500 2nd St\, Cathlamet\, WA\, United States
CATEGORIES:Community Events
GEO:46.199187;-123.380496
X-APPLE-STRUCTURED-LOCATION;VALUE=URI;X-ADDRESS=Elochoman Slough Marina 500 2nd St Cathlamet WA United States;X-APPLE-RADIUS=500;X-TITLE=500 2nd St:geo:-123.380496,46.199187
END:VEVENT
BEGIN:VEVENT
DTSTART;TZID=America/Los_Angeles:20250828T000000
DTEND;TZID=America/Los_Angeles:20250828T235959
DTSTAMP:20260425T090211
CREATED:20250814T005032Z
LAST-MODIFIED:20250814T005032Z
UID:10001942-1756339200-1756425599@www.kuknradio.com
SUMMARY:Hook the Hawg Salmon Derby
DESCRIPTION:Who can reel in the biggest catch? The Hook the Hawg Salmon Derby is back at the Elochoman Marina in Cathlamet: August 28-30. Participants could win cash prizes\, local goods\, and other prizes and experiences. \nFor more information and a link to register: wahkiakum.us/event/hook-the-hawg-ii/
URL:https://www.kuknradio.com/event/hook-the-hawg-salmon-derby/
LOCATION:Elochoman Slough Marina\, 500 2nd St\, Cathlamet\, WA\, United States
CATEGORIES:Community Events
GEO:46.199187;-123.380496
X-APPLE-STRUCTURED-LOCATION;VALUE=URI;X-ADDRESS=Elochoman Slough Marina 500 2nd St Cathlamet WA United States;X-APPLE-RADIUS=500;X-TITLE=500 2nd St:geo:-123.380496,46.199187
END:VEVENT
BEGIN:VEVENT
DTSTART;TZID=America/Los_Angeles:20240927T153000
DTEND;TZID=America/Los_Angeles:20240927T183000
DTSTAMP:20260425T090211
CREATED:20240813T211053Z
LAST-MODIFIED:20241216T203206Z
UID:10000057-1727451000-1727461800@www.kuknradio.com
SUMMARY:Elochoman Marina Street Market
DESCRIPTION:The Elochoman Marina Street Market in Cathlamet is every Friday (May through Sept) from 3:30-6:30pm. See all the vendors and shop for local handmade crafts\, plants\, flowers\, produce all right on the beautiful marina.
URL:https://www.kuknradio.com/event/elochoman-marina-street-market-7/
LOCATION:Elochoman Slough Marina\, 500 2nd St\, Cathlamet\, WA\, United States
CATEGORIES:Community Events
GEO:46.199187;-123.380496
X-APPLE-STRUCTURED-LOCATION;VALUE=URI;X-ADDRESS=Elochoman Slough Marina 500 2nd St Cathlamet WA United States;X-APPLE-RADIUS=500;X-TITLE=500 2nd St:geo:-123.380496,46.199187
END:VEVENT
BEGIN:VEVENT
DTSTART;TZID=America/Los_Angeles:20240920T153000
DTEND;TZID=America/Los_Angeles:20240920T183000
DTSTAMP:20260425T090211
CREATED:20240813T211053Z
LAST-MODIFIED:20241216T203207Z
UID:10000052-1726846200-1726857000@www.kuknradio.com
SUMMARY:Elochoman Marina Street Market
DESCRIPTION:The Elochoman Marina Street Market in Cathlamet is every Friday (May through Sept) from 3:30-6:30pm. See all the vendors and shop for local handmade crafts\, plants\, flowers\, produce all right on the beautiful marina.
URL:https://www.kuknradio.com/event/elochoman-marina-street-market-6/
LOCATION:Elochoman Slough Marina\, 500 2nd St\, Cathlamet\, WA\, United States
CATEGORIES:Community Events
GEO:46.199187;-123.380496
X-APPLE-STRUCTURED-LOCATION;VALUE=URI;X-ADDRESS=Elochoman Slough Marina 500 2nd St Cathlamet WA United States;X-APPLE-RADIUS=500;X-TITLE=500 2nd St:geo:-123.380496,46.199187
END:VEVENT
BEGIN:VEVENT
DTSTART;TZID=America/Los_Angeles:20240913T153000
DTEND;TZID=America/Los_Angeles:20240913T183000
DTSTAMP:20260425T090211
CREATED:20240813T211052Z
LAST-MODIFIED:20241216T203208Z
UID:10000041-1726241400-1726252200@www.kuknradio.com
SUMMARY:Elochoman Marina Street Market
DESCRIPTION:The Elochoman Marina Street Market in Cathlamet is every Friday (May through Sept) from 3:30-6:30pm. See all the vendors and shop for local handmade crafts\, plants\, flowers\, produce all right on the beautiful marina.
URL:https://www.kuknradio.com/event/elochoman-marina-street-market-5/
LOCATION:Elochoman Slough Marina\, 500 2nd St\, Cathlamet\, WA\, United States
CATEGORIES:Community Events
GEO:46.199187;-123.380496
X-APPLE-STRUCTURED-LOCATION;VALUE=URI;X-ADDRESS=Elochoman Slough Marina 500 2nd St Cathlamet WA United States;X-APPLE-RADIUS=500;X-TITLE=500 2nd St:geo:-123.380496,46.199187
END:VEVENT
BEGIN:VEVENT
DTSTART;TZID=America/Los_Angeles:20240906T153000
DTEND;TZID=America/Los_Angeles:20240906T183000
DTSTAMP:20260425T090211
CREATED:20240813T211051Z
LAST-MODIFIED:20241216T203209Z
UID:10000033-1725636600-1725647400@www.kuknradio.com
SUMMARY:Elochoman Marina Street Market
DESCRIPTION:The Elochoman Marina Street Market in Cathlamet is every Friday (May through Sept) from 3:30-6:30pm. See all the vendors and shop for local handmade crafts\, plants\, flowers\, produce all right on the beautiful marina.
URL:https://www.kuknradio.com/event/elochoman-marina-street-market-4/
LOCATION:Elochoman Slough Marina\, 500 2nd St\, Cathlamet\, WA\, United States
CATEGORIES:Community Events
GEO:46.199187;-123.380496
X-APPLE-STRUCTURED-LOCATION;VALUE=URI;X-ADDRESS=Elochoman Slough Marina 500 2nd St Cathlamet WA United States;X-APPLE-RADIUS=500;X-TITLE=500 2nd St:geo:-123.380496,46.199187
END:VEVENT
BEGIN:VEVENT
DTSTART;TZID=America/Los_Angeles:20240830T153000
DTEND;TZID=America/Los_Angeles:20240830T183000
DTSTAMP:20260425T090211
CREATED:20240813T211051Z
LAST-MODIFIED:20241216T203210Z
UID:10000026-1725031800-1725042600@www.kuknradio.com
SUMMARY:Elochoman Marina Street Market
DESCRIPTION:The Elochoman Marina Street Market in Cathlamet is every Friday (May through Sept) from 3:30-6:30pm. See all the vendors and shop for local handmade crafts\, plants\, flowers\, produce all right on the beautiful marina.
URL:https://www.kuknradio.com/event/elochoman-marina-street-market-3/
LOCATION:Elochoman Slough Marina\, 500 2nd St\, Cathlamet\, WA\, United States
CATEGORIES:Community Events
GEO:46.199187;-123.380496
X-APPLE-STRUCTURED-LOCATION;VALUE=URI;X-ADDRESS=Elochoman Slough Marina 500 2nd St Cathlamet WA United States;X-APPLE-RADIUS=500;X-TITLE=500 2nd St:geo:-123.380496,46.199187
END:VEVENT
BEGIN:VEVENT
DTSTART;TZID=America/Los_Angeles:20240823T153000
DTEND;TZID=America/Los_Angeles:20240823T183000
DTSTAMP:20260425T090211
CREATED:20240813T211050Z
LAST-MODIFIED:20241216T203539Z
UID:10000018-1724427000-1724437800@www.kuknradio.com
SUMMARY:Elochoman Marina Street Market
DESCRIPTION:The Elochoman Marina Street Market in Cathlamet is every Friday (May through Sept) from 3:30-6:30pm. See all the vendors and shop for local handmade crafts\, plants\, flowers\, produce all right on the beautiful marina.
URL:https://www.kuknradio.com/event/elochoman-marina-street-market-2/
LOCATION:Elochoman Slough Marina\, 500 2nd St\, Cathlamet\, WA\, United States
CATEGORIES:Community Events
GEO:46.199187;-123.380496
X-APPLE-STRUCTURED-LOCATION;VALUE=URI;X-ADDRESS=Elochoman Slough Marina 500 2nd St Cathlamet WA United States;X-APPLE-RADIUS=500;X-TITLE=500 2nd St:geo:-123.380496,46.199187
END:VEVENT
BEGIN:VEVENT
DTSTART;TZID=America/Los_Angeles:20240816T153000
DTEND;TZID=America/Los_Angeles:20240816T183000
DTSTAMP:20260425T090211
CREATED:20240813T211049Z
LAST-MODIFIED:20241216T203541Z
UID:10000004-1723822200-1723833000@www.kuknradio.com
SUMMARY:Elochoman Marina Street Market
DESCRIPTION:The Elochoman Marina Street Market in Cathlamet is every Friday (May through Sept) from 3:30-6:30pm. See all the vendors and shop for local handmade crafts\, plants\, flowers\, produce all right on the beautiful marina.
URL:https://www.kuknradio.com/event/elochoman-marina-street-market/
LOCATION:Elochoman Slough Marina\, 500 2nd St\, Cathlamet\, WA\, United States
CATEGORIES:Community Events
GEO:46.199187;-123.380496
X-APPLE-STRUCTURED-LOCATION;VALUE=URI;X-ADDRESS=Elochoman Slough Marina 500 2nd St Cathlamet WA United States;X-APPLE-RADIUS=500;X-TITLE=500 2nd St:geo:-123.380496,46.199187
END:VEVENT
END:VCALENDAR