BEGIN:VCALENDAR
VERSION:2.0
PRODID:-//KUKN 105.5 Cookin&#039; Country - ECPv6.15.20//NONSGML v1.0//EN
CALSCALE:GREGORIAN
METHOD:PUBLISH
X-WR-CALNAME:KUKN 105.5 Cookin&#039; Country
X-ORIGINAL-URL:https://www.kuknradio.com
X-WR-CALDESC:Events for KUKN 105.5 Cookin&#039; Country
REFRESH-INTERVAL;VALUE=DURATION:PT1H
X-Robots-Tag:noindex
X-PUBLISHED-TTL:PT1H
BEGIN:VTIMEZONE
TZID:America/Los_Angeles
BEGIN:DAYLIGHT
TZOFFSETFROM:-0800
TZOFFSETTO:-0700
TZNAME:PDT
DTSTART:20230312T100000
END:DAYLIGHT
BEGIN:STANDARD
TZOFFSETFROM:-0700
TZOFFSETTO:-0800
TZNAME:PST
DTSTART:20231105T090000
END:STANDARD
BEGIN:DAYLIGHT
TZOFFSETFROM:-0800
TZOFFSETTO:-0700
TZNAME:PDT
DTSTART:20240310T100000
END:DAYLIGHT
BEGIN:STANDARD
TZOFFSETFROM:-0700
TZOFFSETTO:-0800
TZNAME:PST
DTSTART:20241103T090000
END:STANDARD
BEGIN:DAYLIGHT
TZOFFSETFROM:-0800
TZOFFSETTO:-0700
TZNAME:PDT
DTSTART:20250309T100000
END:DAYLIGHT
BEGIN:STANDARD
TZOFFSETFROM:-0700
TZOFFSETTO:-0800
TZNAME:PST
DTSTART:20251102T090000
END:STANDARD
END:VTIMEZONE
BEGIN:VEVENT
DTSTART;TZID=America/Los_Angeles:20241109T160000
DTEND;TZID=America/Los_Angeles:20241109T210000
DTSTAMP:20260425T110854
CREATED:20241103T192541Z
LAST-MODIFIED:20241216T203201Z
UID:10000608-1731168000-1731186000@www.kuknradio.com
SUMMARY:Clash of the Cowboys
DESCRIPTION:See Bulls\, Broncs and Cowboys live in Astoria! It’s the Clash of the Cowboys at the Clatsop County Fair and Expo Indoor Arena on Saturday\, November 9th.\nPre-show family fun at 4\, doors at 6\, The Clash starts at 7:30. Get your tickets now at ClatsopCOFair.com.
URL:https://www.kuknradio.com/event/clash-of-the-cowboys/
LOCATION:Clatsop County Fair & Expo Center\, 92899 Walluski Loop\, Astoria\, OR\, United States
CATEGORIES:Community Events
GEO:46.150673;-123.785372
X-APPLE-STRUCTURED-LOCATION;VALUE=URI;X-ADDRESS=Clatsop County Fair & Expo Center 92899 Walluski Loop Astoria OR United States;X-APPLE-RADIUS=500;X-TITLE=92899 Walluski Loop:geo:-123.785372,46.150673
END:VEVENT
END:VCALENDAR