BEGIN:VCALENDAR
VERSION:2.0
PRODID:-//KUKN 105.5 Cookin&#039; Country - ECPv6.15.20//NONSGML v1.0//EN
CALSCALE:GREGORIAN
METHOD:PUBLISH
X-ORIGINAL-URL:https://www.kuknradio.com
X-WR-CALDESC:Events for KUKN 105.5 Cookin&#039; Country
REFRESH-INTERVAL;VALUE=DURATION:PT1H
X-Robots-Tag:noindex
X-PUBLISHED-TTL:PT1H
BEGIN:VTIMEZONE
TZID:America/Los_Angeles
BEGIN:DAYLIGHT
TZOFFSETFROM:-0800
TZOFFSETTO:-0700
TZNAME:PDT
DTSTART:20230312T100000
END:DAYLIGHT
BEGIN:STANDARD
TZOFFSETFROM:-0700
TZOFFSETTO:-0800
TZNAME:PST
DTSTART:20231105T090000
END:STANDARD
BEGIN:DAYLIGHT
TZOFFSETFROM:-0800
TZOFFSETTO:-0700
TZNAME:PDT
DTSTART:20240310T100000
END:DAYLIGHT
BEGIN:STANDARD
TZOFFSETFROM:-0700
TZOFFSETTO:-0800
TZNAME:PST
DTSTART:20241103T090000
END:STANDARD
BEGIN:DAYLIGHT
TZOFFSETFROM:-0800
TZOFFSETTO:-0700
TZNAME:PDT
DTSTART:20250309T100000
END:DAYLIGHT
BEGIN:STANDARD
TZOFFSETFROM:-0700
TZOFFSETTO:-0800
TZNAME:PST
DTSTART:20251102T090000
END:STANDARD
BEGIN:DAYLIGHT
TZOFFSETFROM:-0800
TZOFFSETTO:-0700
TZNAME:PDT
DTSTART:20260308T100000
END:DAYLIGHT
BEGIN:STANDARD
TZOFFSETFROM:-0700
TZOFFSETTO:-0800
TZNAME:PST
DTSTART:20261101T090000
END:STANDARD
END:VTIMEZONE
BEGIN:VEVENT
DTSTART;TZID=America/Los_Angeles:20250531T090000
DTEND;TZID=America/Los_Angeles:20250531T150000
DTSTAMP:20260425T093925
CREATED:20250522T124950Z
LAST-MODIFIED:20250522T124950Z
UID:10001627-1748682000-1748703600@www.kuknradio.com
SUMMARY:50's Cruise Reunion Indoor Car Show
DESCRIPTION:The 50’s Cruise Reunion Indoor Car Show is May 31st\, 9am-3pm at the Clatsop County Fairgrounds and Expo Center.Come check out some great classic cars! \nRegister your car for $25 ahead of time or $30 same day.Details at lowercolumbiaclassicscarclub.tripod.com.
URL:https://www.kuknradio.com/event/50s-cruise-reunion-indoor-car-show/
LOCATION:Clatsop County Fair & Expo Center\, 92899 Walluski Loop\, Astoria\, OR\, United States
CATEGORIES:Community Events
GEO:46.150673;-123.785372
X-APPLE-STRUCTURED-LOCATION;VALUE=URI;X-ADDRESS=Clatsop County Fair & Expo Center 92899 Walluski Loop Astoria OR United States;X-APPLE-RADIUS=500;X-TITLE=92899 Walluski Loop:geo:-123.785372,46.150673
END:VEVENT
BEGIN:VEVENT
DTSTART;TZID=America/Los_Angeles:20250427T110000
DTEND;TZID=America/Los_Angeles:20250427T160000
DTSTAMP:20260425T093925
CREATED:20250226T004830Z
LAST-MODIFIED:20250226T004830Z
UID:10001510-1745751600-1745769600@www.kuknradio.com
SUMMARY:Astoria-Warrenton Crab\, Seafood and Wine Festival
DESCRIPTION:The favorite Astoria-Warrenton Crab\, Seafood and Wine Festival is back April 25th through 27th at the Clatsop County Fairgrounds. This year\, we’ll see 150 vendors with hand-crafted arts\, coastal cuisine\, and Oregon wine and local brews.Buy your tickets online and save!For tickets and more: astoriacrabfest.com
URL:https://www.kuknradio.com/event/astoria-warrenton-crab-seafood-and-wine-festival-3/
LOCATION:Clatsop County Fair & Expo Center\, 92899 Walluski Loop\, Astoria\, OR\, United States
CATEGORIES:Community Events
GEO:46.150673;-123.785372
X-APPLE-STRUCTURED-LOCATION;VALUE=URI;X-ADDRESS=Clatsop County Fair & Expo Center 92899 Walluski Loop Astoria OR United States;X-APPLE-RADIUS=500;X-TITLE=92899 Walluski Loop:geo:-123.785372,46.150673
END:VEVENT
BEGIN:VEVENT
DTSTART;TZID=America/Los_Angeles:20250426T100000
DTEND;TZID=America/Los_Angeles:20250426T200000
DTSTAMP:20260425T093925
CREATED:20250225T000106Z
LAST-MODIFIED:20250225T000106Z
UID:10001507-1745661600-1745697600@www.kuknradio.com
SUMMARY:Astoria-Warrenton Crab\, Seafood and Wine Festival
DESCRIPTION:The favorite Astoria-Warrenton Crab\, Seafood and Wine Festival is back April 25th through 27th at the Clatsop County Fairgrounds. This year\, we’ll see 150 vendors with hand-crafted arts\, coastal cuisine\, and Oregon wine and local brews.Buy your tickets online and save!For tickets and more: astoriacrabfest.com
URL:https://www.kuknradio.com/event/astoria-warrenton-crab-seafood-and-wine-festival-2/
LOCATION:Clatsop County Fair & Expo Center\, 92899 Walluski Loop\, Astoria\, OR\, United States
CATEGORIES:Community Events
GEO:46.150673;-123.785372
X-APPLE-STRUCTURED-LOCATION;VALUE=URI;X-ADDRESS=Clatsop County Fair & Expo Center 92899 Walluski Loop Astoria OR United States;X-APPLE-RADIUS=500;X-TITLE=92899 Walluski Loop:geo:-123.785372,46.150673
END:VEVENT
BEGIN:VEVENT
DTSTART;TZID=America/Los_Angeles:20250425T160000
DTEND;TZID=America/Los_Angeles:20250425T210000
DTSTAMP:20260425T093925
CREATED:20250224T000610Z
LAST-MODIFIED:20250224T000610Z
UID:10001506-1745596800-1745614800@www.kuknradio.com
SUMMARY:Astoria-Warrenton Crab\, Seafood and Wine Festival
DESCRIPTION:The favorite Astoria-Warrenton Crab\, Seafood and Wine Festival is back April 25th through 27th at the Clatsop County Fairgrounds. This year\, we’ll see 150 vendors with hand-crafted arts\, coastal cuisine\, and Oregon wine and local brews.Buy your tickets online and save!For tickets and more: astoriacrabfest.com
URL:https://www.kuknradio.com/event/astoria-warrenton-crab-seafood-and-wine-festival/
LOCATION:Clatsop County Fair & Expo Center\, 92899 Walluski Loop\, Astoria\, OR\, United States
CATEGORIES:Community Events
GEO:46.150673;-123.785372
X-APPLE-STRUCTURED-LOCATION;VALUE=URI;X-ADDRESS=Clatsop County Fair & Expo Center 92899 Walluski Loop Astoria OR United States;X-APPLE-RADIUS=500;X-TITLE=92899 Walluski Loop:geo:-123.785372,46.150673
END:VEVENT
BEGIN:VEVENT
DTSTART;TZID=America/Los_Angeles:20250326T183000
DTEND;TZID=America/Los_Angeles:20250326T210000
DTSTAMP:20260425T093925
CREATED:20250324T224745Z
LAST-MODIFIED:20250324T224745Z
UID:10001528-1743013800-1743022800@www.kuknradio.com
SUMMARY:Jordan WORLD CIRCUS
DESCRIPTION:The Jordan World Circus is making a stop at the Clatsop County Fairgrounds on March 26th. Starting at 6:30pm\, it’s elephants\, camels\, all-star performing dogs\, a juggling clown\, a high wire\, a quick change show\, and the Globe of Death.Get more info and tickets (as low at $10!!) here: jordancircus.com/sh-events/wed-mar-26-astoria-or-630-pm/
URL:https://www.kuknradio.com/event/jordan-world-circus/
LOCATION:Clatsop County Fair & Expo Center\, 92899 Walluski Loop\, Astoria\, OR\, United States
CATEGORIES:Community Events
GEO:46.150673;-123.785372
X-APPLE-STRUCTURED-LOCATION;VALUE=URI;X-ADDRESS=Clatsop County Fair & Expo Center 92899 Walluski Loop Astoria OR United States;X-APPLE-RADIUS=500;X-TITLE=92899 Walluski Loop:geo:-123.785372,46.150673
END:VEVENT
BEGIN:VEVENT
DTSTART;TZID=America/Los_Angeles:20250323T100000
DTEND;TZID=America/Los_Angeles:20250323T160000
DTSTAMP:20260425T093925
CREATED:20250305T203021Z
LAST-MODIFIED:20250305T203021Z
UID:10001515-1742724000-1742745600@www.kuknradio.com
SUMMARY:TICA Cat Show
DESCRIPTION:Over 100 exotic cats\, plus great vendors and food! The Cascadia Cat Club presents the TICA Cat Show March 22-23\, 10am-4pm in the main building of the Clatsop County Fair Grounds. \nGet your tickets at the door\, or save money and get them ahead of time: https://www.zeffy.com/en-US/ticketing/almost-our-last-goonie-weekend-tica-show-admission?fbclid=IwY2xjawI1kctleHRuA2FlbQIxMAABHe6q4To3fRqr_PN5X242Vo8N42Rz4uIRWjc1lmvUJGwQMVUNdQeI40sXaw_aem_eFMtqBrTDXbvDTriP5xGrg
URL:https://www.kuknradio.com/event/tica-cat-show-2/
LOCATION:Clatsop County Fair & Expo Center\, 92899 Walluski Loop\, Astoria\, OR\, United States
CATEGORIES:Community Events
GEO:46.150673;-123.785372
X-APPLE-STRUCTURED-LOCATION;VALUE=URI;X-ADDRESS=Clatsop County Fair & Expo Center 92899 Walluski Loop Astoria OR United States;X-APPLE-RADIUS=500;X-TITLE=92899 Walluski Loop:geo:-123.785372,46.150673
END:VEVENT
BEGIN:VEVENT
DTSTART;TZID=America/Los_Angeles:20250322T100000
DTEND;TZID=America/Los_Angeles:20250322T160000
DTSTAMP:20260425T093925
CREATED:20250305T203021Z
LAST-MODIFIED:20250305T203021Z
UID:10001514-1742637600-1742659200@www.kuknradio.com
SUMMARY:TICA Cat Show
DESCRIPTION:Over 100 exotic cats\, plus great vendors and food! The Cascadia Cat Club presents the TICA Cat Show March 22-23\, 10am-4pm in the main building of the Clatsop County Fair Grounds. \nGet your tickets at the door\, or save money and get them ahead of time: https://www.zeffy.com/en-US/ticketing/almost-our-last-goonie-weekend-tica-show-admission?fbclid=IwY2xjawI1kctleHRuA2FlbQIxMAABHe6q4To3fRqr_PN5X242Vo8N42Rz4uIRWjc1lmvUJGwQMVUNdQeI40sXaw_aem_eFMtqBrTDXbvDTriP5xGrg
URL:https://www.kuknradio.com/event/tica-cat-show/
LOCATION:Clatsop County Fair & Expo Center\, 92899 Walluski Loop\, Astoria\, OR\, United States
CATEGORIES:Community Events
GEO:46.150673;-123.785372
X-APPLE-STRUCTURED-LOCATION;VALUE=URI;X-ADDRESS=Clatsop County Fair & Expo Center 92899 Walluski Loop Astoria OR United States;X-APPLE-RADIUS=500;X-TITLE=92899 Walluski Loop:geo:-123.785372,46.150673
END:VEVENT
BEGIN:VEVENT
DTSTART;TZID=America/Los_Angeles:20250315T193000
DTEND;TZID=America/Los_Angeles:20250315T210000
DTSTAMP:20260425T093925
CREATED:20250210T231709Z
LAST-MODIFIED:20250210T231709Z
UID:10001484-1742067000-1742072400@www.kuknradio.com
SUMMARY:Monster Truck Nitro Tour
DESCRIPTION:The Monster Truck Nitro Tour skids TWO monster shows into the Clatsop County Fair and Expo Center on February 15th. Incredible 10\,000 lbs car-crushing giants compete in racing\, wheelie contests and more!Shows at 1:30pm and 7:30pm.For tickets and more: monstertrucktour.com
URL:https://www.kuknradio.com/event/monster-truck-nitro-tour-2/
LOCATION:Clatsop County Fair & Expo Center\, 92899 Walluski Loop\, Astoria\, OR\, United States
CATEGORIES:Community Events
GEO:46.150673;-123.785372
X-APPLE-STRUCTURED-LOCATION;VALUE=URI;X-ADDRESS=Clatsop County Fair & Expo Center 92899 Walluski Loop Astoria OR United States;X-APPLE-RADIUS=500;X-TITLE=92899 Walluski Loop:geo:-123.785372,46.150673
END:VEVENT
BEGIN:VEVENT
DTSTART;TZID=America/Los_Angeles:20250315T133000
DTEND;TZID=America/Los_Angeles:20250315T150000
DTSTAMP:20260425T093925
CREATED:20250210T231709Z
LAST-MODIFIED:20250210T231709Z
UID:10001483-1742045400-1742050800@www.kuknradio.com
SUMMARY:Monster Truck Nitro Tour
DESCRIPTION:The Monster Truck Nitro Tour skids TWO monster shows into the Clatsop County Fair and Expo Center on February 15th. Incredible 10\,000 lbs car-crushing giants compete in racing\, wheelie contests and more!Shows at 1:30pm and 7:30pm.For tickets and more: monstertrucktour.com
URL:https://www.kuknradio.com/event/monster-truck-nitro-tour/
LOCATION:Clatsop County Fair & Expo Center\, 92899 Walluski Loop\, Astoria\, OR\, United States
CATEGORIES:Community Events
GEO:46.150673;-123.785372
X-APPLE-STRUCTURED-LOCATION;VALUE=URI;X-ADDRESS=Clatsop County Fair & Expo Center 92899 Walluski Loop Astoria OR United States;X-APPLE-RADIUS=500;X-TITLE=92899 Walluski Loop:geo:-123.785372,46.150673
END:VEVENT
BEGIN:VEVENT
DTSTART;TZID=America/Los_Angeles:20250308T080000
DTEND;TZID=America/Los_Angeles:20250308T150000
DTSTAMP:20260425T093925
CREATED:20250205T060051Z
LAST-MODIFIED:20250205T060051Z
UID:10001467-1741420800-1741446000@www.kuknradio.com
SUMMARY:Swap Meet by Lower Columbia Classics
DESCRIPTION:Find rare and unique parts for car enthusiasts! From Model T to vintage toys\, there’s something for everyone.\nThe Lower Columbia Classics Annual Swap Meet will be Saturday\, March 8th 8am-3pm at the Clatsop County Fairgrounds.\nAll proceeds from this event will go back into local high schools and college.\nQuestions? Call Dorothy at (503) 468-0006.
URL:https://www.kuknradio.com/event/swap-meet-by-lower-columbia-classics/
LOCATION:Clatsop County Fair & Expo Center\, 92899 Walluski Loop\, Astoria\, OR\, United States
CATEGORIES:Community Events
GEO:46.150673;-123.785372
X-APPLE-STRUCTURED-LOCATION;VALUE=URI;X-ADDRESS=Clatsop County Fair & Expo Center 92899 Walluski Loop Astoria OR United States;X-APPLE-RADIUS=500;X-TITLE=92899 Walluski Loop:geo:-123.785372,46.150673
END:VEVENT
BEGIN:VEVENT
DTSTART;TZID=America/Los_Angeles:20250125T180000
DTEND;TZID=America/Los_Angeles:20250125T210000
DTSTAMP:20260425T093925
CREATED:20250115T213058Z
LAST-MODIFIED:20250115T213058Z
UID:10001438-1737828000-1737838800@www.kuknradio.com
SUMMARY:Royal Celebration: Astoria-Warrenton Area Chamber of Commerce Meeting and Banquet
DESCRIPTION:You have been summoned…The Astoria-Warrenton Area Chamber of Commerce’s annual Meeting and Banquet is January 25th at the Clatsop County Fair and Expo Center. Doors at 4:30pm\, program and dinner at 6pm.It’s a Royal Celebration: the Queens and Kings Edition.Wear your finest attire\, and enjoy a great feast catered by Bridgewater Bistro\, cheers with complimentary alcoholic and nonalcoholic beverages\, then the program including an awards ceremony.For tickets and more information: oldoregon.com/banquet
URL:https://www.kuknradio.com/event/royal-celebration-astoria-warrenton-area-chamber-of-commerce-meeting-and-banquet/
LOCATION:Clatsop County Fair & Expo Center\, 92899 Walluski Loop\, Astoria\, OR\, United States
CATEGORIES:Community Events
GEO:46.150673;-123.785372
X-APPLE-STRUCTURED-LOCATION;VALUE=URI;X-ADDRESS=Clatsop County Fair & Expo Center 92899 Walluski Loop Astoria OR United States;X-APPLE-RADIUS=500;X-TITLE=92899 Walluski Loop:geo:-123.785372,46.150673
END:VEVENT
BEGIN:VEVENT
DTSTART;TZID=America/Los_Angeles:20250116T170000
DTEND;TZID=America/Los_Angeles:20250116T210000
DTSTAMP:20260425T093925
CREATED:20250115T213058Z
LAST-MODIFIED:20250115T213058Z
UID:10001437-1737046800-1737061200@www.kuknradio.com
SUMMARY:Natural Resources DINNER\, AWARDS and AUCTION
DESCRIPTION:The Natural Resources Dinner\, Awards and Auction is January 16th at the Clatop County Fairgrounds. Doors at 4pm\, event starts at 5pm.This event benefits local high school youth’s endeavors in Natural Resources and Career and Technical Education.For more information: orwit.ejoinme.org/CWWC2025
URL:https://www.kuknradio.com/event/natural-resources-dinner-awards-and-auction/
LOCATION:Clatsop County Fair & Expo Center\, 92899 Walluski Loop\, Astoria\, OR\, United States
CATEGORIES:Community Events
GEO:46.150673;-123.785372
X-APPLE-STRUCTURED-LOCATION;VALUE=URI;X-ADDRESS=Clatsop County Fair & Expo Center 92899 Walluski Loop Astoria OR United States;X-APPLE-RADIUS=500;X-TITLE=92899 Walluski Loop:geo:-123.785372,46.150673
END:VEVENT
BEGIN:VEVENT
DTSTART;TZID=America/Los_Angeles:20241109T160000
DTEND;TZID=America/Los_Angeles:20241109T210000
DTSTAMP:20260425T093925
CREATED:20241103T192541Z
LAST-MODIFIED:20241216T203201Z
UID:10000608-1731168000-1731186000@www.kuknradio.com
SUMMARY:Clash of the Cowboys
DESCRIPTION:See Bulls\, Broncs and Cowboys live in Astoria! It’s the Clash of the Cowboys at the Clatsop County Fair and Expo Indoor Arena on Saturday\, November 9th.\nPre-show family fun at 4\, doors at 6\, The Clash starts at 7:30. Get your tickets now at ClatsopCOFair.com.
URL:https://www.kuknradio.com/event/clash-of-the-cowboys/
LOCATION:Clatsop County Fair & Expo Center\, 92899 Walluski Loop\, Astoria\, OR\, United States
CATEGORIES:Community Events
GEO:46.150673;-123.785372
X-APPLE-STRUCTURED-LOCATION;VALUE=URI;X-ADDRESS=Clatsop County Fair & Expo Center 92899 Walluski Loop Astoria OR United States;X-APPLE-RADIUS=500;X-TITLE=92899 Walluski Loop:geo:-123.785372,46.150673
END:VEVENT
END:VCALENDAR