BEGIN:VCALENDAR
VERSION:2.0
PRODID:-//KUKN 105.5 Cookin&#039; Country - ECPv6.15.20//NONSGML v1.0//EN
CALSCALE:GREGORIAN
METHOD:PUBLISH
X-WR-CALNAME:KUKN 105.5 Cookin&#039; Country
X-ORIGINAL-URL:https://www.kuknradio.com
X-WR-CALDESC:Events for KUKN 105.5 Cookin&#039; Country
REFRESH-INTERVAL;VALUE=DURATION:PT1H
X-Robots-Tag:noindex
X-PUBLISHED-TTL:PT1H
BEGIN:VTIMEZONE
TZID:America/Los_Angeles
BEGIN:DAYLIGHT
TZOFFSETFROM:-0800
TZOFFSETTO:-0700
TZNAME:PDT
DTSTART:20240310T100000
END:DAYLIGHT
BEGIN:STANDARD
TZOFFSETFROM:-0700
TZOFFSETTO:-0800
TZNAME:PST
DTSTART:20241103T090000
END:STANDARD
BEGIN:DAYLIGHT
TZOFFSETFROM:-0800
TZOFFSETTO:-0700
TZNAME:PDT
DTSTART:20250309T100000
END:DAYLIGHT
BEGIN:STANDARD
TZOFFSETFROM:-0700
TZOFFSETTO:-0800
TZNAME:PST
DTSTART:20251102T090000
END:STANDARD
BEGIN:DAYLIGHT
TZOFFSETFROM:-0800
TZOFFSETTO:-0700
TZNAME:PDT
DTSTART:20260308T100000
END:DAYLIGHT
BEGIN:STANDARD
TZOFFSETFROM:-0700
TZOFFSETTO:-0800
TZNAME:PST
DTSTART:20261101T090000
END:STANDARD
END:VTIMEZONE
BEGIN:VEVENT
DTSTART;TZID=America/Los_Angeles:20251029T160000
DTEND;TZID=America/Los_Angeles:20251029T190000
DTSTAMP:20260425T141339
CREATED:20250925T223540Z
LAST-MODIFIED:20250925T223540Z
UID:10002089-1761753600-1761764400@www.kuknradio.com
SUMMARY:Haunted Hotel
DESCRIPTION:Haunted Hotel is an indoor Halloween event with a Maze and Glow Party with a live DJ\, spooky trick or treating\, and food and drinks all with local business and the community! Find it all at the Best Western Plus Ocean View Resort on October 29th from 4-7pm.
URL:https://www.kuknradio.com/event/haunted-hotel/
LOCATION:Best Western Plus Ocean View Resort\, Seaside\, OR\, United States
CATEGORIES:Community Events
GEO:45.99316;-123.92264
END:VEVENT
BEGIN:VEVENT
DTSTART;TZID=America/Los_Angeles:20250726T100000
DTEND;TZID=America/Los_Angeles:20250726T150000
DTSTAMP:20260425T141339
CREATED:20250718T171956Z
LAST-MODIFIED:20250718T171956Z
UID:10001799-1753524000-1753542000@www.kuknradio.com
SUMMARY:Summer Craft Fair
DESCRIPTION:A Summer Craft Fair will run at the Best Western Plus Ocean View Resort in Seaside on July 26th from 10am-3pm. Free entry! Come find your new favorite unique handmade treasure.
URL:https://www.kuknradio.com/event/summer-craft-fair-3/
LOCATION:Best Western Plus Ocean View Resort\, Seaside\, OR\, United States
CATEGORIES:Community Events
GEO:45.99316;-123.92264
END:VEVENT
END:VCALENDAR