BEGIN:VCALENDAR
VERSION:2.0
PRODID:-//KUKN 105.5 Cookin&#039; Country - ECPv6.15.20//NONSGML v1.0//EN
CALSCALE:GREGORIAN
METHOD:PUBLISH
X-WR-CALNAME:KUKN 105.5 Cookin&#039; Country
X-ORIGINAL-URL:https://www.kuknradio.com
X-WR-CALDESC:Events for KUKN 105.5 Cookin&#039; Country
REFRESH-INTERVAL;VALUE=DURATION:PT1H
X-Robots-Tag:noindex
X-PUBLISHED-TTL:PT1H
BEGIN:VTIMEZONE
TZID:America/Los_Angeles
BEGIN:DAYLIGHT
TZOFFSETFROM:-0800
TZOFFSETTO:-0700
TZNAME:PDT
DTSTART:20250309T100000
END:DAYLIGHT
BEGIN:STANDARD
TZOFFSETFROM:-0700
TZOFFSETTO:-0800
TZNAME:PST
DTSTART:20251102T090000
END:STANDARD
BEGIN:DAYLIGHT
TZOFFSETFROM:-0800
TZOFFSETTO:-0700
TZNAME:PDT
DTSTART:20260308T100000
END:DAYLIGHT
BEGIN:STANDARD
TZOFFSETFROM:-0700
TZOFFSETTO:-0800
TZNAME:PST
DTSTART:20261101T090000
END:STANDARD
BEGIN:DAYLIGHT
TZOFFSETFROM:-0800
TZOFFSETTO:-0700
TZNAME:PDT
DTSTART:20270314T100000
END:DAYLIGHT
BEGIN:STANDARD
TZOFFSETFROM:-0700
TZOFFSETTO:-0800
TZNAME:PST
DTSTART:20271107T090000
END:STANDARD
END:VTIMEZONE
BEGIN:VEVENT
DTSTART;TZID=America/Los_Angeles:20261103T153000
DTEND;TZID=America/Los_Angeles:20261103T163000
DTSTAMP:20260424T200228
CREATED:20241218T070123Z
LAST-MODIFIED:20241218T070123Z
UID:10001335-1793719800-1793723400@www.kuknradio.com
SUMMARY:K-5 Afterschool Program
DESCRIPTION:The Astoria Public Library offers a fun and educational after school program for kids Kindergarten through 5th grade\, every Tuesday\, 3:30-4:30pm at the Library.\nActivities include play with Legos\, STEM\, art and more!
URL:https://www.kuknradio.com/event/k-5-afterschool-program-117/
LOCATION:Astoria Public Library\, 450 10th St\, Astoria\, OR\, United States
GEO:46.188014;-123.832687
X-APPLE-STRUCTURED-LOCATION;VALUE=URI;X-ADDRESS=Astoria Public Library 450 10th St Astoria OR United States;X-APPLE-RADIUS=500;X-TITLE=450 10th St:geo:-123.832687,46.188014
END:VEVENT
BEGIN:VEVENT
DTSTART;TZID=America/Los_Angeles:20261110T153000
DTEND;TZID=America/Los_Angeles:20261110T163000
DTSTAMP:20260424T200228
CREATED:20241218T070124Z
LAST-MODIFIED:20241218T070124Z
UID:10001344-1794324600-1794328200@www.kuknradio.com
SUMMARY:K-5 Afterschool Program
DESCRIPTION:The Astoria Public Library offers a fun and educational after school program for kids Kindergarten through 5th grade\, every Tuesday\, 3:30-4:30pm at the Library.\nActivities include play with Legos\, STEM\, art and more!
URL:https://www.kuknradio.com/event/k-5-afterschool-program-118/
LOCATION:Astoria Public Library\, 450 10th St\, Astoria\, OR\, United States
GEO:46.188014;-123.832687
X-APPLE-STRUCTURED-LOCATION;VALUE=URI;X-ADDRESS=Astoria Public Library 450 10th St Astoria OR United States;X-APPLE-RADIUS=500;X-TITLE=450 10th St:geo:-123.832687,46.188014
END:VEVENT
BEGIN:VEVENT
DTSTART;TZID=America/Los_Angeles:20261117T153000
DTEND;TZID=America/Los_Angeles:20261117T163000
DTSTAMP:20260424T200228
CREATED:20241218T070126Z
LAST-MODIFIED:20241218T070126Z
UID:10001354-1794929400-1794933000@www.kuknradio.com
SUMMARY:K-5 Afterschool Program
DESCRIPTION:The Astoria Public Library offers a fun and educational after school program for kids Kindergarten through 5th grade\, every Tuesday\, 3:30-4:30pm at the Library.\nActivities include play with Legos\, STEM\, art and more!
URL:https://www.kuknradio.com/event/k-5-afterschool-program-119/
LOCATION:Astoria Public Library\, 450 10th St\, Astoria\, OR\, United States
GEO:46.188014;-123.832687
X-APPLE-STRUCTURED-LOCATION;VALUE=URI;X-ADDRESS=Astoria Public Library 450 10th St Astoria OR United States;X-APPLE-RADIUS=500;X-TITLE=450 10th St:geo:-123.832687,46.188014
END:VEVENT
BEGIN:VEVENT
DTSTART;TZID=America/Los_Angeles:20261124T153000
DTEND;TZID=America/Los_Angeles:20261124T163000
DTSTAMP:20260424T200228
CREATED:20241218T070128Z
LAST-MODIFIED:20241218T070128Z
UID:10001362-1795534200-1795537800@www.kuknradio.com
SUMMARY:K-5 Afterschool Program
DESCRIPTION:The Astoria Public Library offers a fun and educational after school program for kids Kindergarten through 5th grade\, every Tuesday\, 3:30-4:30pm at the Library.\nActivities include play with Legos\, STEM\, art and more!
URL:https://www.kuknradio.com/event/k-5-afterschool-program-120/
LOCATION:Astoria Public Library\, 450 10th St\, Astoria\, OR\, United States
GEO:46.188014;-123.832687
X-APPLE-STRUCTURED-LOCATION;VALUE=URI;X-ADDRESS=Astoria Public Library 450 10th St Astoria OR United States;X-APPLE-RADIUS=500;X-TITLE=450 10th St:geo:-123.832687,46.188014
END:VEVENT
BEGIN:VEVENT
DTSTART;TZID=America/Los_Angeles:20261201T153000
DTEND;TZID=America/Los_Angeles:20261201T163000
DTSTAMP:20260424T200229
CREATED:20241218T070130Z
LAST-MODIFIED:20241218T070130Z
UID:10001372-1796139000-1796142600@www.kuknradio.com
SUMMARY:K-5 Afterschool Program
DESCRIPTION:The Astoria Public Library offers a fun and educational after school program for kids Kindergarten through 5th grade\, every Tuesday\, 3:30-4:30pm at the Library.\nActivities include play with Legos\, STEM\, art and more!
URL:https://www.kuknradio.com/event/k-5-afterschool-program-121/
LOCATION:Astoria Public Library\, 450 10th St\, Astoria\, OR\, United States
GEO:46.188014;-123.832687
X-APPLE-STRUCTURED-LOCATION;VALUE=URI;X-ADDRESS=Astoria Public Library 450 10th St Astoria OR United States;X-APPLE-RADIUS=500;X-TITLE=450 10th St:geo:-123.832687,46.188014
END:VEVENT
BEGIN:VEVENT
DTSTART;TZID=America/Los_Angeles:20261208T153000
DTEND;TZID=America/Los_Angeles:20261208T163000
DTSTAMP:20260424T200229
CREATED:20241218T070132Z
LAST-MODIFIED:20241218T070132Z
UID:10001381-1796743800-1796747400@www.kuknradio.com
SUMMARY:K-5 Afterschool Program
DESCRIPTION:The Astoria Public Library offers a fun and educational after school program for kids Kindergarten through 5th grade\, every Tuesday\, 3:30-4:30pm at the Library.\nActivities include play with Legos\, STEM\, art and more!
URL:https://www.kuknradio.com/event/k-5-afterschool-program-122/
LOCATION:Astoria Public Library\, 450 10th St\, Astoria\, OR\, United States
GEO:46.188014;-123.832687
X-APPLE-STRUCTURED-LOCATION;VALUE=URI;X-ADDRESS=Astoria Public Library 450 10th St Astoria OR United States;X-APPLE-RADIUS=500;X-TITLE=450 10th St:geo:-123.832687,46.188014
END:VEVENT
BEGIN:VEVENT
DTSTART;TZID=America/Los_Angeles:20261215T153000
DTEND;TZID=America/Los_Angeles:20261215T163000
DTSTAMP:20260424T200229
CREATED:20241218T070758Z
LAST-MODIFIED:20241218T070758Z
UID:10001392-1797348600-1797352200@www.kuknradio.com
SUMMARY:K-5 Afterschool Program
DESCRIPTION:The Astoria Public Library offers a fun and educational after school program for kids Kindergarten through 5th grade\, every Tuesday\, 3:30-4:30pm at the Library.\nActivities include play with Legos\, STEM\, art and more!
URL:https://www.kuknradio.com/event/k-5-afterschool-program-123/
LOCATION:Astoria Public Library\, 450 10th St\, Astoria\, OR\, United States
GEO:46.188014;-123.832687
X-APPLE-STRUCTURED-LOCATION;VALUE=URI;X-ADDRESS=Astoria Public Library 450 10th St Astoria OR United States;X-APPLE-RADIUS=500;X-TITLE=450 10th St:geo:-123.832687,46.188014
END:VEVENT
END:VCALENDAR