BEGIN:VCALENDAR
VERSION:2.0
PRODID:-//KUKN 105.5 Cookin&#039; Country - ECPv6.15.20//NONSGML v1.0//EN
CALSCALE:GREGORIAN
METHOD:PUBLISH
X-ORIGINAL-URL:https://www.kuknradio.com
X-WR-CALDESC:Events for KUKN 105.5 Cookin&#039; Country
REFRESH-INTERVAL;VALUE=DURATION:PT1H
X-Robots-Tag:noindex
X-PUBLISHED-TTL:PT1H
BEGIN:VTIMEZONE
TZID:America/Los_Angeles
BEGIN:DAYLIGHT
TZOFFSETFROM:-0800
TZOFFSETTO:-0700
TZNAME:PDT
DTSTART:20240310T100000
END:DAYLIGHT
BEGIN:STANDARD
TZOFFSETFROM:-0700
TZOFFSETTO:-0800
TZNAME:PST
DTSTART:20241103T090000
END:STANDARD
BEGIN:DAYLIGHT
TZOFFSETFROM:-0800
TZOFFSETTO:-0700
TZNAME:PDT
DTSTART:20250309T100000
END:DAYLIGHT
BEGIN:STANDARD
TZOFFSETFROM:-0700
TZOFFSETTO:-0800
TZNAME:PST
DTSTART:20251102T090000
END:STANDARD
BEGIN:DAYLIGHT
TZOFFSETFROM:-0800
TZOFFSETTO:-0700
TZNAME:PDT
DTSTART:20260308T100000
END:DAYLIGHT
BEGIN:STANDARD
TZOFFSETFROM:-0700
TZOFFSETTO:-0800
TZNAME:PST
DTSTART:20261101T090000
END:STANDARD
END:VTIMEZONE
BEGIN:VEVENT
DTSTART;TZID=America/Los_Angeles:20250816T110000
DTEND;TZID=America/Los_Angeles:20250816T140000
DTSTAMP:20260425T074549
CREATED:20250801T205005Z
LAST-MODIFIED:20250801T205005Z
UID:10001906-1755342000-1755352800@www.kuknradio.com
SUMMARY:Astoria Fire House Open House
DESCRIPTION:Get free hot dogs\, chips and drinks\, meet local heroes\, and see a bunch of emergency response vehicles at The Astoria Fire House Open House! Everyone will also have a chance to win great prizes too. August 16th\, 11am-2pm right at the fire station.
URL:https://www.kuknradio.com/event/astoria-fire-house-open-house/
LOCATION:Astoria Fire Department\, 555 30th St\, Astoria\, OR\, United States
CATEGORIES:Community Events
GEO:46.190749;-123.811131
X-APPLE-STRUCTURED-LOCATION;VALUE=URI;X-ADDRESS=Astoria Fire Department 555 30th St Astoria OR United States;X-APPLE-RADIUS=500;X-TITLE=555 30th St:geo:-123.811131,46.190749
END:VEVENT
END:VCALENDAR