BEGIN:VCALENDAR
VERSION:2.0
PRODID:-//KUKN 105.5 Cookin&#039; Country - ECPv6.15.20//NONSGML v1.0//EN
CALSCALE:GREGORIAN
METHOD:PUBLISH
X-WR-CALNAME:KUKN 105.5 Cookin&#039; Country
X-ORIGINAL-URL:https://www.kuknradio.com
X-WR-CALDESC:Events for KUKN 105.5 Cookin&#039; Country
REFRESH-INTERVAL;VALUE=DURATION:PT1H
X-Robots-Tag:noindex
X-PUBLISHED-TTL:PT1H
BEGIN:VTIMEZONE
TZID:America/Los_Angeles
BEGIN:DAYLIGHT
TZOFFSETFROM:-0800
TZOFFSETTO:-0700
TZNAME:PDT
DTSTART:20230312T100000
END:DAYLIGHT
BEGIN:STANDARD
TZOFFSETFROM:-0700
TZOFFSETTO:-0800
TZNAME:PST
DTSTART:20231105T090000
END:STANDARD
BEGIN:DAYLIGHT
TZOFFSETFROM:-0800
TZOFFSETTO:-0700
TZNAME:PDT
DTSTART:20240310T100000
END:DAYLIGHT
BEGIN:STANDARD
TZOFFSETFROM:-0700
TZOFFSETTO:-0800
TZNAME:PST
DTSTART:20241103T090000
END:STANDARD
BEGIN:DAYLIGHT
TZOFFSETFROM:-0800
TZOFFSETTO:-0700
TZNAME:PDT
DTSTART:20250309T100000
END:DAYLIGHT
BEGIN:STANDARD
TZOFFSETFROM:-0700
TZOFFSETTO:-0800
TZNAME:PST
DTSTART:20251102T090000
END:STANDARD
BEGIN:DAYLIGHT
TZOFFSETFROM:-0800
TZOFFSETTO:-0700
TZNAME:PDT
DTSTART:20260308T100000
END:DAYLIGHT
BEGIN:STANDARD
TZOFFSETFROM:-0700
TZOFFSETTO:-0800
TZNAME:PST
DTSTART:20261101T090000
END:STANDARD
END:VTIMEZONE
BEGIN:VEVENT
DTSTART;TZID=America/Los_Angeles:20250724T173000
DTEND;TZID=America/Los_Angeles:20250724T183000
DTSTAMP:20260425T084100
CREATED:20250722T000451Z
LAST-MODIFIED:20250722T000451Z
UID:10001821-1753378200-1753381800@www.kuknradio.com
SUMMARY:Mural Unveiling at Astoria Armory
DESCRIPTION:Check out the new Astoria Armory mural by artist Casey McEnney on July 24th! A Ribbon cutting and unveiling will start at 5:30pm on the north side of the Armory\, with tours and light snacks to follow.
URL:https://www.kuknradio.com/event/mural-unveiling-at-astoria-armory/
LOCATION:Astoria Armory\, 1636 Exchange St\, Astoria\, OR\, United States
CATEGORIES:Community Events
GEO:46.188231;-123.825337
X-APPLE-STRUCTURED-LOCATION;VALUE=URI;X-ADDRESS=Astoria Armory 1636 Exchange St Astoria OR United States;X-APPLE-RADIUS=500;X-TITLE=1636 Exchange St:geo:-123.825337,46.188231
END:VEVENT
BEGIN:VEVENT
DTSTART;TZID=America/Los_Angeles:20250717T100000
DTEND;TZID=America/Los_Angeles:20250717T113000
DTSTAMP:20260425T084100
CREATED:20250703T194943Z
LAST-MODIFIED:20250703T194943Z
UID:10001774-1752746400-1752751800@www.kuknradio.com
SUMMARY:Power Play for the Planet: Astoria
DESCRIPTION:Power Play for the Planet is coming to the Astoria Armory on July 17th at 10am\, thanks to the Astoria Public Library and the Museum of Natural and Cultural History!\nExplore and improve the environment by playing games\, solving puzzles\, and tackling wacky challenges.\nThis event is excellent for kids and teens.
URL:https://www.kuknradio.com/event/power-play-for-the-planet-astoria/
LOCATION:Astoria Armory\, 1636 Exchange St\, Astoria\, OR\, United States
CATEGORIES:Community Events
GEO:46.188231;-123.825337
X-APPLE-STRUCTURED-LOCATION;VALUE=URI;X-ADDRESS=Astoria Armory 1636 Exchange St Astoria OR United States;X-APPLE-RADIUS=500;X-TITLE=1636 Exchange St:geo:-123.825337,46.188231
END:VEVENT
BEGIN:VEVENT
DTSTART;TZID=America/Los_Angeles:20250710T103000
DTEND;TZID=America/Los_Angeles:20250710T113000
DTSTAMP:20260425T084100
CREATED:20250616T090808Z
LAST-MODIFIED:20250616T090808Z
UID:10001701-1752143400-1752147000@www.kuknradio.com
SUMMARY:Dragon Puppet Theater: Astoria
DESCRIPTION:Dragon Puppet Theater is an 8-bit adventure with 8-bit puppets! See them with the Astoria Library at The Armory: July 10th\, 10:30am-11:30am.
URL:https://www.kuknradio.com/event/dragon-puppet-theater-astoria/
LOCATION:Astoria Armory\, 1636 Exchange St\, Astoria\, OR\, United States
CATEGORIES:Community Events
GEO:46.188231;-123.825337
X-APPLE-STRUCTURED-LOCATION;VALUE=URI;X-ADDRESS=Astoria Armory 1636 Exchange St Astoria OR United States;X-APPLE-RADIUS=500;X-TITLE=1636 Exchange St:geo:-123.825337,46.188231
END:VEVENT
BEGIN:VEVENT
DTSTART;TZID=America/Los_Angeles:20250620T103000
DTEND;TZID=America/Los_Angeles:20250620T113000
DTSTAMP:20260425T084100
CREATED:20250616T090803Z
LAST-MODIFIED:20250616T090803Z
UID:10001679-1750415400-1750419000@www.kuknradio.com
SUMMARY:Creature Teachers: Astoria
DESCRIPTION:Learn about wildlife with REAL animals! Join the Astoria Public Library at The Armory (1636 Exchange St) for Creature Teachers: June 20th\, 10:30am-11:30am.
URL:https://www.kuknradio.com/event/creature-teachers-astoria/
LOCATION:Astoria Armory\, 1636 Exchange St\, Astoria\, OR\, United States
CATEGORIES:Community Events
GEO:46.188231;-123.825337
X-APPLE-STRUCTURED-LOCATION;VALUE=URI;X-ADDRESS=Astoria Armory 1636 Exchange St Astoria OR United States;X-APPLE-RADIUS=500;X-TITLE=1636 Exchange St:geo:-123.825337,46.188231
END:VEVENT
BEGIN:VEVENT
DTSTART;TZID=America/Los_Angeles:20241215T100000
DTEND;TZID=America/Los_Angeles:20241215T150000
DTSTAMP:20260425T084100
CREATED:20241103T192552Z
LAST-MODIFIED:20241216T203003Z
UID:10000612-1734256800-1734274800@www.kuknradio.com
SUMMARY:Astoria Holiday Market
DESCRIPTION:The Astoria Holiday Market is moving indoors on Sunday’s\, December 1st \, 8th and 15th from 10am-3pm at the Astoria Armory at 1636 Exchange Street. \nThis holiday market will feature 60+ different vendors each week and will be a fun and festive shopping experience! Easy to shop fun holiday atmosphere with an eclectic mix of art\, craft and food\, all created especially for the holidays.
URL:https://www.kuknradio.com/event/astoria-holiday-market-3/
LOCATION:Astoria Armory\, 1636 Exchange St\, Astoria\, OR\, United States
CATEGORIES:Community Events
GEO:46.188231;-123.825337
X-APPLE-STRUCTURED-LOCATION;VALUE=URI;X-ADDRESS=Astoria Armory 1636 Exchange St Astoria OR United States;X-APPLE-RADIUS=500;X-TITLE=1636 Exchange St:geo:-123.825337,46.188231
END:VEVENT
BEGIN:VEVENT
DTSTART;TZID=America/Los_Angeles:20241208T100000
DTEND;TZID=America/Los_Angeles:20241208T150000
DTSTAMP:20260425T084100
CREATED:20241103T192549Z
LAST-MODIFIED:20241216T203004Z
UID:10000611-1733652000-1733670000@www.kuknradio.com
SUMMARY:Astoria Holiday Market
DESCRIPTION:The Astoria Holiday Market is moving indoors on Sunday’s\, December 1st \, 8th and 15th from 10am-3pm at the Astoria Armory at 1636 Exchange Street. \nThis holiday market will feature 60+ different vendors each week and will be a fun and festive shopping experience! Easy to shop fun holiday atmosphere with an eclectic mix of art\, craft and food\, all created especially for the holidays.
URL:https://www.kuknradio.com/event/astoria-holiday-market-2/
LOCATION:Astoria Armory\, 1636 Exchange St\, Astoria\, OR\, United States
CATEGORIES:Community Events
GEO:46.188231;-123.825337
X-APPLE-STRUCTURED-LOCATION;VALUE=URI;X-ADDRESS=Astoria Armory 1636 Exchange St Astoria OR United States;X-APPLE-RADIUS=500;X-TITLE=1636 Exchange St:geo:-123.825337,46.188231
END:VEVENT
BEGIN:VEVENT
DTSTART;TZID=America/Los_Angeles:20241201T100000
DTEND;TZID=America/Los_Angeles:20241201T150000
DTSTAMP:20260425T084100
CREATED:20241103T192546Z
LAST-MODIFIED:20241216T203159Z
UID:10000610-1733047200-1733065200@www.kuknradio.com
SUMMARY:Astoria Holiday Market
DESCRIPTION:The Astoria Holiday Market is moving indoors on Sunday’s\, December 1st \, 8th and 15th from 10am-3pm at the Astoria Armory at 1636 Exchange Street. \nThis holiday market will feature 60+ different vendors each week and will be a fun and festive shopping experience! Easy to shop fun holiday atmosphere with an eclectic mix of art\, craft and food\, all created especially for the holidays.
URL:https://www.kuknradio.com/event/astoria-holiday-market/
LOCATION:Astoria Armory\, 1636 Exchange St\, Astoria\, OR\, United States
CATEGORIES:Community Events
GEO:46.188231;-123.825337
X-APPLE-STRUCTURED-LOCATION;VALUE=URI;X-ADDRESS=Astoria Armory 1636 Exchange St Astoria OR United States;X-APPLE-RADIUS=500;X-TITLE=1636 Exchange St:geo:-123.825337,46.188231
END:VEVENT
END:VCALENDAR