BEGIN:VCALENDAR
VERSION:2.0
PRODID:-//KUKN 105.5 Cookin&#039; Country - ECPv6.15.20//NONSGML v1.0//EN
CALSCALE:GREGORIAN
METHOD:PUBLISH
X-ORIGINAL-URL:https://www.kuknradio.com
X-WR-CALDESC:Events for KUKN 105.5 Cookin&#039; Country
REFRESH-INTERVAL;VALUE=DURATION:PT1H
X-Robots-Tag:noindex
X-PUBLISHED-TTL:PT1H
BEGIN:VTIMEZONE
TZID:America/Los_Angeles
BEGIN:DAYLIGHT
TZOFFSETFROM:-0800
TZOFFSETTO:-0700
TZNAME:PDT
DTSTART:20240310T100000
END:DAYLIGHT
BEGIN:STANDARD
TZOFFSETFROM:-0700
TZOFFSETTO:-0800
TZNAME:PST
DTSTART:20241103T090000
END:STANDARD
BEGIN:DAYLIGHT
TZOFFSETFROM:-0800
TZOFFSETTO:-0700
TZNAME:PDT
DTSTART:20250309T100000
END:DAYLIGHT
BEGIN:STANDARD
TZOFFSETFROM:-0700
TZOFFSETTO:-0800
TZNAME:PST
DTSTART:20251102T090000
END:STANDARD
BEGIN:DAYLIGHT
TZOFFSETFROM:-0800
TZOFFSETTO:-0700
TZNAME:PDT
DTSTART:20260308T100000
END:DAYLIGHT
BEGIN:STANDARD
TZOFFSETFROM:-0700
TZOFFSETTO:-0800
TZNAME:PST
DTSTART:20261101T090000
END:STANDARD
END:VTIMEZONE
BEGIN:VEVENT
DTSTART;TZID=America/Los_Angeles:20250906T000000
DTEND;TZID=America/Los_Angeles:20250906T235959
DTSTAMP:20260425T090355
CREATED:20250724T200553Z
LAST-MODIFIED:20250724T200553Z
UID:10001892-1757116800-1757203199@www.kuknradio.com
SUMMARY:Rod Run to the End of the World CAR SHOW
DESCRIPTION:The Beach Barons Car Club’s 41st annual Rod Run to the End of the World Car Show is September 6-7. Find cool cars and an awesome swapmeet: 25515 Sandridge Rd Ocean Park. \nLearn more at beachbarons.com.
URL:https://www.kuknradio.com/event/rod-run-to-the-end-of-the-world-car-show/
LOCATION:25515 Sandridge Rd Ocean Park
CATEGORIES:Community Events
END:VEVENT
END:VCALENDAR